BEGIN:VCALENDAR
VERSION:2.0
PRODID:-//Entourée par la nature - ECPv6.15.20//NONSGML v1.0//EN
CALSCALE:GREGORIAN
METHOD:PUBLISH
X-WR-CALNAME:Entourée par la nature
X-ORIGINAL-URL:https://entoureeparlanature.fr
X-WR-CALDESC:Évènements pour Entourée par la nature
REFRESH-INTERVAL;VALUE=DURATION:PT1H
X-Robots-Tag:noindex
X-PUBLISHED-TTL:PT1H
BEGIN:VTIMEZONE
TZID:Europe/Helsinki
BEGIN:DAYLIGHT
TZOFFSETFROM:+0200
TZOFFSETTO:+0300
TZNAME:EEST
DTSTART:20220327T010000
END:DAYLIGHT
BEGIN:STANDARD
TZOFFSETFROM:+0300
TZOFFSETTO:+0200
TZNAME:EET
DTSTART:20221030T010000
END:STANDARD
BEGIN:DAYLIGHT
TZOFFSETFROM:+0200
TZOFFSETTO:+0300
TZNAME:EEST
DTSTART:20230326T010000
END:DAYLIGHT
BEGIN:STANDARD
TZOFFSETFROM:+0300
TZOFFSETTO:+0200
TZNAME:EET
DTSTART:20231029T010000
END:STANDARD
BEGIN:DAYLIGHT
TZOFFSETFROM:+0200
TZOFFSETTO:+0300
TZNAME:EEST
DTSTART:20240331T010000
END:DAYLIGHT
BEGIN:STANDARD
TZOFFSETFROM:+0300
TZOFFSETTO:+0200
TZNAME:EET
DTSTART:20241027T010000
END:STANDARD
END:VTIMEZONE
BEGIN:VEVENT
DTSTART;TZID=Europe/Helsinki:20230610T200000
DTEND;TZID=Europe/Helsinki:20230610T220000
DTSTAMP:20260425T031842
CREATED:20230525T163216Z
LAST-MODIFIED:20230527T205410Z
UID:622-1686427200-1686434400@entoureeparlanature.fr
SUMMARY:L’Erdre au crépuscule
DESCRIPTION:Venez profiter de l’ambiance qui règne au bord de l’Erdre au crépuscule accompagnés d’une guide naturaliste. \nGrand public à partir de 8 ans. Tarif : adulte 12 €\, enfant : 5 €\, Prêt de jumelles inclus. \nInscriptions et renseignements auprès de Marine au 06 08 47 78 50 contact@entoureeparlanature.fr
URL:https://entoureeparlanature.fr/sortie/erdre-au-crepuscule/
LOCATION:Pont de la Tortière\, 1 bd des professeurs Sourdille\, Nantes\, Nantes\, 44000
CATEGORIES:grand public
ATTACH;FMTTYPE=image/jpeg:https://entoureeparlanature.fr/wp-content/uploads/2023/05/heron.jpg
ORGANIZER;CN="Entour%C3%A9e par la nature":MAILTO:contact@entoureeparlanature.fr
END:VEVENT
END:VCALENDAR