BEGIN:VCALENDAR
VERSION:2.0
PRODID:-//Entourée par la nature - ECPv6.15.20//NONSGML v1.0//EN
CALSCALE:GREGORIAN
METHOD:PUBLISH
X-WR-CALNAME:Entourée par la nature
X-ORIGINAL-URL:https://entoureeparlanature.fr
X-WR-CALDESC:Évènements pour Entourée par la nature
REFRESH-INTERVAL;VALUE=DURATION:PT1H
X-Robots-Tag:noindex
X-PUBLISHED-TTL:PT1H
BEGIN:VTIMEZONE
TZID:Europe/Helsinki
BEGIN:DAYLIGHT
TZOFFSETFROM:+0200
TZOFFSETTO:+0300
TZNAME:EEST
DTSTART:20220327T010000
END:DAYLIGHT
BEGIN:STANDARD
TZOFFSETFROM:+0300
TZOFFSETTO:+0200
TZNAME:EET
DTSTART:20221030T010000
END:STANDARD
BEGIN:DAYLIGHT
TZOFFSETFROM:+0200
TZOFFSETTO:+0300
TZNAME:EEST
DTSTART:20230326T010000
END:DAYLIGHT
BEGIN:STANDARD
TZOFFSETFROM:+0300
TZOFFSETTO:+0200
TZNAME:EET
DTSTART:20231029T010000
END:STANDARD
BEGIN:DAYLIGHT
TZOFFSETFROM:+0200
TZOFFSETTO:+0300
TZNAME:EEST
DTSTART:20240331T010000
END:DAYLIGHT
BEGIN:STANDARD
TZOFFSETFROM:+0300
TZOFFSETTO:+0200
TZNAME:EET
DTSTART:20241027T010000
END:STANDARD
END:VTIMEZONE
BEGIN:VEVENT
DTSTART;TZID=Europe/Helsinki:20230812T220000
DTEND;TZID=Europe/Helsinki:20230812T233000
DTSTAMP:20260424T152936
CREATED:20230614T152348Z
LAST-MODIFIED:20230614T152348Z
UID:780-1691877600-1691883000@entoureeparlanature.fr
SUMMARY:Balade nature nocturne en forêt
DESCRIPTION:La nuit\, à l’écoute de tous nos sens\, découvrons la forêt de Port-Barbe. Des activités ludiques nous permettrons de nous familiariser avec l’obscurité. Nous partirons ensuite à la rencontre de quelques-uns des habitants de la forêt. \nTarif : adulte 12 € \, enfant 5 € \nGrand public \nInscriptions et renseignements auprès de Marine au 06 08 47 78 50 contact@entoureeparlanature.fr \nLieu de rdv communiqué au moment de l’inscription
URL:https://entoureeparlanature.fr/sortie/balade-nature-nocturne-en-foret-2/
LOCATION:Port Barbe\, La\, Le Port Barbe\, La Chapelle-sur-Erdre\, France
CATEGORIES:grand public
ATTACH;FMTTYPE=image/jpeg:https://entoureeparlanature.fr/wp-content/uploads/2023/04/moon-g6c2c371a5_640.jpg
ORGANIZER;CN="Entour%C3%A9e par la nature":MAILTO:contact@entoureeparlanature.fr
END:VEVENT
END:VCALENDAR