BEGIN:VCALENDAR
VERSION:2.0
PRODID:-//Entourée par la nature - ECPv6.15.20//NONSGML v1.0//EN
CALSCALE:GREGORIAN
METHOD:PUBLISH
X-ORIGINAL-URL:https://entoureeparlanature.fr
X-WR-CALDESC:Évènements pour Entourée par la nature
REFRESH-INTERVAL;VALUE=DURATION:PT1H
X-Robots-Tag:noindex
X-PUBLISHED-TTL:PT1H
BEGIN:VTIMEZONE
TZID:Europe/Helsinki
BEGIN:DAYLIGHT
TZOFFSETFROM:+0200
TZOFFSETTO:+0300
TZNAME:EEST
DTSTART:20220327T010000
END:DAYLIGHT
BEGIN:STANDARD
TZOFFSETFROM:+0300
TZOFFSETTO:+0200
TZNAME:EET
DTSTART:20221030T010000
END:STANDARD
BEGIN:DAYLIGHT
TZOFFSETFROM:+0200
TZOFFSETTO:+0300
TZNAME:EEST
DTSTART:20230326T010000
END:DAYLIGHT
BEGIN:STANDARD
TZOFFSETFROM:+0300
TZOFFSETTO:+0200
TZNAME:EET
DTSTART:20231029T010000
END:STANDARD
BEGIN:DAYLIGHT
TZOFFSETFROM:+0200
TZOFFSETTO:+0300
TZNAME:EEST
DTSTART:20240331T010000
END:DAYLIGHT
BEGIN:STANDARD
TZOFFSETFROM:+0300
TZOFFSETTO:+0200
TZNAME:EET
DTSTART:20241027T010000
END:STANDARD
END:VTIMEZONE
BEGIN:VEVENT
DTSTART;TZID=Europe/Helsinki:20230805T150000
DTEND;TZID=Europe/Helsinki:20230805T171500
DTSTAMP:20260422T204008
CREATED:20230614T145641Z
LAST-MODIFIED:20230727T095301Z
UID:769-1691247600-1691255700@entoureeparlanature.fr
SUMMARY:Balade botanique et créative : découvrez le cyanotype
DESCRIPTION:Initiation à une méthode de création extraordinaire. Nous cueillerons et ramasserons quelques trésors de la nature\, puis découvrirons le procédé de photographie instantanée du Cyanotype : Préparation du papier\, composition\, et fixation. Chacun repartira avec sa création bleue. Tout public à partir de 8 ans \nTarif adulte 15 euros\, enfant : 12 euros\nInscriptions et renseignements auprès de Marine au 06 08 47 78 50 contact@entoureeparlanature.fr\nLieu de rdv communiqué au moment de l’inscription.\nPlus de balades sur le site https : https://entoureeparlanature.fr/sorties
URL:https://entoureeparlanature.fr/sortie/atelier-creatif-et-botanique-le-cyanotype-entre-science-photographie-et-chasse-au-tresor/
LOCATION:Pont de la jonelière\, Route de la Jonelière\, La Chapelle-sur-Erdre\, 44240\, France
CATEGORIES:grand public
ATTACH;FMTTYPE=image/png:https://entoureeparlanature.fr/wp-content/uploads/2023/06/cyanotype-botanique-e1727213026243.png
ORGANIZER;CN="Entour%C3%A9e par la nature":MAILTO:contact@entoureeparlanature.fr
END:VEVENT
END:VCALENDAR