BEGIN:VCALENDAR
VERSION:2.0
PRODID:-//Entourée par la nature - ECPv6.15.20//NONSGML v1.0//EN
CALSCALE:GREGORIAN
METHOD:PUBLISH
X-ORIGINAL-URL:https://entoureeparlanature.fr
X-WR-CALDESC:Évènements pour Entourée par la nature
REFRESH-INTERVAL;VALUE=DURATION:PT1H
X-Robots-Tag:noindex
X-PUBLISHED-TTL:PT1H
BEGIN:VTIMEZONE
TZID:Europe/Helsinki
BEGIN:DAYLIGHT
TZOFFSETFROM:+0200
TZOFFSETTO:+0300
TZNAME:EEST
DTSTART:20220327T010000
END:DAYLIGHT
BEGIN:STANDARD
TZOFFSETFROM:+0300
TZOFFSETTO:+0200
TZNAME:EET
DTSTART:20221030T010000
END:STANDARD
BEGIN:DAYLIGHT
TZOFFSETFROM:+0200
TZOFFSETTO:+0300
TZNAME:EEST
DTSTART:20230326T010000
END:DAYLIGHT
BEGIN:STANDARD
TZOFFSETFROM:+0300
TZOFFSETTO:+0200
TZNAME:EET
DTSTART:20231029T010000
END:STANDARD
BEGIN:DAYLIGHT
TZOFFSETFROM:+0200
TZOFFSETTO:+0300
TZNAME:EEST
DTSTART:20240331T010000
END:DAYLIGHT
BEGIN:STANDARD
TZOFFSETFROM:+0300
TZOFFSETTO:+0200
TZNAME:EET
DTSTART:20241027T010000
END:STANDARD
END:VTIMEZONE
BEGIN:VEVENT
DTSTART;TZID=Europe/Helsinki:20230503T143000
DTEND;TZID=Europe/Helsinki:20230503T160000
DTSTAMP:20260422T060616
CREATED:20230425T074950Z
LAST-MODIFIED:20230425T082908Z
UID:528-1683124200-1683129600@entoureeparlanature.fr
SUMMARY:Sortie des petits : Coccinelles et petites bêtes
DESCRIPTION:Comme des explorateurs\, nous allons apprendre à mieux connaître les petites bêtes qui vivent au Parc du Grand Blottereau. Nous allons écouter une histoire sur les insectes\, partir à leur recherche\, les observer et créer un petit souvenir de la balade\, à ramener chez-soi. \nPour les enfants à partir de 3 ans. \nTarif pour un enfant et son accompagnateur : 8 € \nInscriptions et renseignements auprès de Marine au 06 08 47 78 50 contact@entoureeparlanature.fr \nLieu de rdv communiqué au moment de l’inscription
URL:https://entoureeparlanature.fr/sortie/sortie-des-petits-coccinelles-et-petites-betes/
LOCATION:Parc du Grand Blottereau\, 16 Bd Auguste Peneau\, 44000\, France
CATEGORIES:petits 3-6 ans
ATTACH;FMTTYPE=image/jpeg:https://entoureeparlanature.fr/wp-content/uploads/2023/04/coccinelle-e1682410519272.jpg
ORGANIZER;CN="Entour%C3%A9e par la nature":MAILTO:contact@entoureeparlanature.fr
END:VEVENT
BEGIN:VEVENT
DTSTART;TZID=Europe/Helsinki:20230504T143000
DTEND;TZID=Europe/Helsinki:20230504T153000
DTSTAMP:20260422T060616
CREATED:20230425T075351Z
LAST-MODIFIED:20230425T133822Z
UID:531-1683210600-1683214200@entoureeparlanature.fr
SUMMARY:Eveil dans la nature sur l'Île de Versailles
DESCRIPTION:Explorer la vraie nature avec votre enfant de 6 mois à 3 ans pour favoriser son développement et son autonomie. Une animatrice nature vous proposera des activités autour des sens avec de la manipulation d’éléments de la nature\, de la récolte et du jeu. \nTarif tandem parent-enfant : 6 €. \nInscriptions et renseignements auprès de Marine au 06 08 47 78 50 contact@entoureeparlanature.fr \nLieu de rdv communiqué au moment de l’inscription
URL:https://entoureeparlanature.fr/sortie/eveil-dans-la-nature/
LOCATION:Ile de Versailles\, Nantes\, Quai Henri Barbusse\, Nantes\, 44000\, France
CATEGORIES:6mois-3ans
ATTACH;FMTTYPE=image/jpeg:https://entoureeparlanature.fr/wp-content/uploads/2023/04/eveil_nature_nantes_tout_petits.jpg
ORGANIZER;CN="Entour%C3%A9e par la nature":MAILTO:contact@entoureeparlanature.fr
END:VEVENT
BEGIN:VEVENT
DTSTART;TZID=Europe/Helsinki:20230506T100000
DTEND;TZID=Europe/Helsinki:20230506T120000
DTSTAMP:20260422T060616
CREATED:20230417T094317Z
LAST-MODIFIED:20230417T102345Z
UID:504-1683367200-1683374400@entoureeparlanature.fr
SUMMARY:Balade nature : initiation à la reconnaissance des chants des oiseaux
DESCRIPTION:Partons en balade en forêt au bois de la Desnerie ! Le printemps est le moment idéal pour écouter les chants des oiseaux\, et pour s’entraîner à les identifier. Accompagnés d’une guide naturaliste\, vous allez apprendre des trucs et des astuces pour mémoriser les chants. \nA partir de 10 ans. Prêt de jumelles inclus. \nTarif : adulte 12€ ; enfant 5 € \nRéservation obligatoire par téléphone ou par mail.
URL:https://entoureeparlanature.fr/sortie/balade-nature-initiation-a-la-reconnaissance-des-chants-des-oiseaux/
LOCATION:Port Barbe\, La\, Le Port Barbe\, La Chapelle-sur-Erdre\, France
CATEGORIES:grand public
ATTACH;FMTTYPE=image/jpeg:https://entoureeparlanature.fr/wp-content/uploads/2023/04/balade_nature_oiseaux_erdre_nantes-1-e1681726930141.jpg
ORGANIZER;CN="Entour%C3%A9e par la nature":MAILTO:contact@entoureeparlanature.fr
END:VEVENT
BEGIN:VEVENT
DTSTART;TZID=Europe/Helsinki:20230507T100000
DTEND;TZID=Europe/Helsinki:20230507T120000
DTSTAMP:20260422T060616
CREATED:20230425T080105Z
LAST-MODIFIED:20230425T083017Z
UID:534-1683453600-1683460800@entoureeparlanature.fr
SUMMARY:Balade nature : Les oiseaux des marais
DESCRIPTION:Petit-Mars\, est une destination renommée pour les ornithologues de Loire-Atlantique. A 20 km au Nord de Nantes\, les prairies des marais de l’Erdre encore inondées accueillent une grande diversité d’oiseaux. Au cours d’une balade\, accompagnés d’une guide naturaliste\, et équipés de jumelles et d’une longue-vue\, vous allez apprendre à les reconnaître ! \nMaximum 12 participants. \nGrand public\, à partir de 10 ans. \nPrêt de jumelles inclus. \nTarif : adulte 12€ ; enfant 5 € \nInscriptions et renseignements auprès de Marine au 06 08 47 78 50 contact@entoureeparlanature.fr \nLieu de rdv communiqué au moment de l’inscription
URL:https://entoureeparlanature.fr/sortie/balade-nature-les-oiseaux-des-marais/
LOCATION:Petit Mars\, 44390\, Petit-Mars\, 44390\, France
CATEGORIES:grand public
ATTACH;FMTTYPE=image/jpeg:https://entoureeparlanature.fr/wp-content/uploads/2023/04/petit_mars_resized.jpg
ORGANIZER;CN="Entour%C3%A9e par la nature":MAILTO:contact@entoureeparlanature.fr
END:VEVENT
BEGIN:VEVENT
DTSTART;TZID=Europe/Helsinki:20230510T143000
DTEND;TZID=Europe/Helsinki:20230510T163000
DTSTAMP:20260422T060616
CREATED:20230425T081225Z
LAST-MODIFIED:20230425T083110Z
UID:539-1683729000-1683736200@entoureeparlanature.fr
SUMMARY:Balade nature sensorielle dans le Val de Chézine
DESCRIPTION:Pour cette balade dédiée aux familles dans la vallée de la Chézine\, écrin de verdure en plein coeur de Nantes. Nous allons explorer la nature qui nous entoure avec nos 4 sens : l’odorat\, l’ouïe\, le toucher et la vue. Des activités ludiques variées seront proposées pour créer un lien avec notre environnement. \nConseillé à partir de 6 ans \nTarif : adulte 8 €\, enfant 5 € \nInscriptions et renseignements auprès de Marine au 06 08 47 78 50 contact@entoureeparlanature.fr \nLieu de rdv communiqué au moment de l’inscription
URL:https://entoureeparlanature.fr/sortie/balade-nature-sensorielle-dans-le-val-de-chezine/
LOCATION:Val dela Chézine\, Pont Jules César\, Nantes\, 44100\, France
CATEGORIES:spécial familles
ATTACH;FMTTYPE=image/jpeg:https://entoureeparlanature.fr/wp-content/uploads/2023/04/val_de_la_chezine_resized.jpg
ORGANIZER;CN="Entour%C3%A9e par la nature":MAILTO:contact@entoureeparlanature.fr
END:VEVENT
BEGIN:VEVENT
DTSTART;TZID=Europe/Helsinki:20230513T100000
DTEND;TZID=Europe/Helsinki:20230513T120000
DTSTAMP:20260422T060616
CREATED:20230425T083509Z
LAST-MODIFIED:20230425T083632Z
UID:546-1683972000-1683979200@entoureeparlanature.fr
SUMMARY:Balade nature : Initiation au chant des oiseaux
DESCRIPTION:Partons en balade au CRAPA ! Le printemps est le moment idéal pour écouter les chants des oiseaux\, et pour s’entraîner à les identifier. Accompagnés d’une guide naturaliste\, vous allez apprendre des trucs et des astuces pour mémoriser les chants. \nMaximum 12 participants. \nGrand public\, à partir de 8 ans. \nPrêt de jumelles inclus. \nTarif : adulte 12€ ; enfant 5 € \nInscriptions et renseignements auprès de Marine au 06 08 47 78 50 contact@entoureeparlanature.fr
URL:https://entoureeparlanature.fr/sortie/balade-nature-initiation-au-chant-des-oiseaux/
LOCATION:Parc CRAPA\, Rue du Pré Salé\, Nantes\, 44200
CATEGORIES:grand public
ATTACH;FMTTYPE=image/jpeg:https://entoureeparlanature.fr/wp-content/uploads/2023/03/rougegorge.jpg
END:VEVENT
BEGIN:VEVENT
DTSTART;TZID=Europe/Helsinki:20230514T100000
DTEND;TZID=Europe/Helsinki:20230514T120000
DTSTAMP:20260422T060616
CREATED:20230425T090135Z
LAST-MODIFIED:20230425T090135Z
UID:549-1684058400-1684065600@entoureeparlanature.fr
SUMMARY:Balade nature : Les oiseaux des marais
DESCRIPTION:Le marais de Goulaine\, dans le Vignoble nantais\, constitue une destination renommée pour les ornithologues de Loire-Atlantique. A 15 km de Nantes\, les prairies encore inondées accueillent une grande diversité d’oiseaux. Au cours d’une balade\, accompagnés d’une guide naturaliste\, et équipés de jumelles et d’une longue-vue\, vous allez apprendre à les reconnaître ! \nMaximum 12 participants. \nGrand public\, à partir de 8 ans. \nPrêt de jumelles inclus. \nTarif : adulte 12€ ; enfant 5 € \nInscriptions et renseignements auprès de Marine au 06 08 47 78 50 contact@entoureeparlanature.fr \nLieu de rdv communiqué au moment de l’inscription
URL:https://entoureeparlanature.fr/sortie/balade-nature-les-oiseaux-des-marais-2/
LOCATION:Haute-Goulaine\, 136 route du Pont de l'Ouen\, Haute-Goulaine\, 44115
CATEGORIES:grand public
ATTACH;FMTTYPE=image/jpeg:https://entoureeparlanature.fr/wp-content/uploads/2023/04/observation_oiseaux_balade_nature_erdre-e1727216561465.jpg
ORGANIZER;CN="Entour%C3%A9e par la nature":MAILTO:contact@entoureeparlanature.fr
END:VEVENT
BEGIN:VEVENT
DTSTART;TZID=Europe/Helsinki:20230517T143000
DTEND;TZID=Europe/Helsinki:20230517T160000
DTSTAMP:20260422T060616
CREATED:20230425T090733Z
LAST-MODIFIED:20230425T175359Z
UID:552-1684333800-1684339200@entoureeparlanature.fr
SUMMARY:Sortie enfant : botaniste en herbe
DESCRIPTION:Au cours de cette sortie créative\, les enfants apprendront à fabriquer et relier un carnet de naturaliste. Ils le rempliront sur le terrain avec l’aide d’une animatrice nature qui les aidera à reconnaître et comprendre différents aspects de la biologie des plantes par de la cueillette\, de la prise d’empreinte ou encore du dessin d’observation. \nPour les enfants à partir de 6 ans. \nTarif pour un enfant accompagné : 8 € \nInscriptions et renseignements auprès de Marine au 06 08 47 78 50 contact@entoureeparlanature.fr \nLieu de rdv communiqué au moment de l’inscription
URL:https://entoureeparlanature.fr/sortie/sortie-enfant-botaniste-en-herbe/
LOCATION:Hippodrome de Nantes\, 5 bd des tribunes\, Nantes\, 44300
CATEGORIES:enfants à partir de 6 ans
ATTACH;FMTTYPE=image/jpeg:https://entoureeparlanature.fr/wp-content/uploads/2023/04/anemone2.jpg
ORGANIZER;CN="Entour%C3%A9e par la nature":MAILTO:contact@entoureeparlanature.fr
END:VEVENT
BEGIN:VEVENT
DTSTART;TZID=Europe/Helsinki:20230520T100000
DTEND;TZID=Europe/Helsinki:20230520T120000
DTSTAMP:20260422T060616
CREATED:20230425T092202Z
LAST-MODIFIED:20230425T092202Z
UID:556-1684576800-1684584000@entoureeparlanature.fr
SUMMARY:Balade nature : initiation au chant des oiseaux communs
DESCRIPTION:En ville\, vivent de nombreux oiseaux. De nombreuses espèces trouvent refuge dans les nombreux parcs et jardins de Nantes. Au Jardin des plantes\, la variété des habitats permet de voir de nombreuses espèces différentes. Cette balade constitue une initiation à l’ornithologie. Pourquoi les oiseaux chantent\, comment différencier les différents sons ? Apprenez vos premiers chants simplement et découvrez des outils pour progresser. Accompagnés d’une guide naturaliste et équipés de jumelles\, visitez autrement ce magnifique parc. \nTarif : adulte 12 € \, enfant 5 € \nGrand public à partir de 8 ans \nAccessible aux personnes à mobilité réduite et aux personnes malvoyantes. \nInscriptions et renseignements auprès de Marine au 06 08 47 78 50 contact@entoureeparlanature.fr \nLieu de rdv communiqué au moment de l’inscription
URL:https://entoureeparlanature.fr/sortie/balade-nature-initiation-au-chant-des-oiseaux-communs/
LOCATION:Jardin des plantes\, rue Ecorchard\, Nantes\, 44000\, France
CATEGORIES:grand public
ATTACH;FMTTYPE=image/jpeg:https://entoureeparlanature.fr/wp-content/uploads/2023/04/troglodyte_philippe_mabileau.jpg
ORGANIZER;CN="Entour%C3%A9e par la nature":MAILTO:contact@entoureeparlanature.fr
END:VEVENT
BEGIN:VEVENT
DTSTART;TZID=Europe/Helsinki:20230524T080000
DTEND;TZID=Europe/Helsinki:20230524T170000
DTSTAMP:20260422T060616
CREATED:20230425T095226Z
LAST-MODIFIED:20230425T133719Z
UID:560-1684915200-1684947600@entoureeparlanature.fr
SUMMARY:Entre canards et grenouilles au Jardin des plantes (fête de la Nature)
DESCRIPTION:Au jardin des plantes\, il n’y a pas que des plantes. Venez en famille pour apprendre à reconnaître les canards\, mais aussi les grenouilles qui y vivent. \nPour les familles avec de jeunes enfants à partir de 3 ans. \nAccessible aux personnes à mobilité réduite. \nGratuit à l’occasion de la fête de la Nature et sur réservation obligatoire auprès de Marine au 06 08 47 78 50 contact@entoureeparlanature.fr \nLieu de rdv communiqué au moment de l’inscription \n 
URL:https://entoureeparlanature.fr/sortie/entre-canards-et-grenouilles-au-jardin-des-plantes-fete-de-la-nature/
LOCATION:Jardin des plantes\, rue Ecorchard\, Nantes\, 44000\, France
CATEGORIES:grand public,spécial familles
ATTACH;FMTTYPE=image/jpeg:https://entoureeparlanature.fr/wp-content/uploads/2023/04/sortie_canards_nantes_entouree_p.jpg
ORGANIZER;CN="Entour%C3%A9e par la nature":MAILTO:contact@entoureeparlanature.fr
END:VEVENT
BEGIN:VEVENT
DTSTART;TZID=Europe/Helsinki:20230525T143000
DTEND;TZID=Europe/Helsinki:20230525T153000
DTSTAMP:20260422T060616
CREATED:20230425T100517Z
LAST-MODIFIED:20230425T100613Z
UID:565-1685025000-1685028600@entoureeparlanature.fr
SUMMARY:Eveil dans la nature
DESCRIPTION:Explorer la vraie nature avec votre enfant de 6 mois à 3 ans pour favoriser son développement et son autonomie. Une animatrice nature vous proposera des activités autour des sens avec de la manipulation d’éléments naturels\, de la récolte et du jeu. \nTarif tandem parent-enfant : 6 €. \nInscriptions et renseignements auprès de Marine au 06 08 47 78 50 contact@entoureeparlanature.fr \nLieu de rdv communiqué au moment de l’inscription
URL:https://entoureeparlanature.fr/sortie/eveil-dans-la-nature-2/
LOCATION:Pont de la Motte Rouge\, place Waldeck Rousseau\, Nantes\, 44000
CATEGORIES:petits 3-6 ans
ATTACH;FMTTYPE=image/jpeg:https://entoureeparlanature.fr/wp-content/uploads/2023/04/eveil_nature_nantes_tout_petits.jpg
ORGANIZER;CN="Entour%C3%A9e par la nature":MAILTO:contact@entoureeparlanature.fr
END:VEVENT
BEGIN:VEVENT
DTSTART;TZID=Europe/Helsinki:20230527T100000
DTEND;TZID=Europe/Helsinki:20230527T120000
DTSTAMP:20260422T060616
CREATED:20230425T105536Z
LAST-MODIFIED:20230425T105536Z
UID:569-1685181600-1685188800@entoureeparlanature.fr
SUMMARY:Balade nature : initiation au chant des oiseaux communs
DESCRIPTION:En ville\, vivent de nombreux oiseaux. De nombreuses espèces trouvent refuge dans les nombreux parcs et jardins de Nantes. Au Parc de la Gaudinière\, la variété des habitats permet de voir de nombreuses espèces différentes. Cette balade constitue une initiation à l’ornithologie. Pourquoi les oiseaux chantent\, comment différencier les différents sons. Apprenez vos premiers chants simplement et découvrez des outils pour progresser. Accompagnés d’une guide naturaliste et équipés de jumelles\, visitez autrement ce magnifique parc.. \nTarif : adulte 12 € \, enfant 5 € \nGrand public à partir de 8 ans \nInscriptions et renseignements auprès de Marine au 06 08 47 78 50 contact@entoureeparlanature.fr \nLieu de rdv communiqué au moment de l’inscription
URL:https://entoureeparlanature.fr/sortie/balade-nature-initiation-au-chant-des-oiseaux-communs-2/
LOCATION:Parc de la Gaudinière\, 107 rue de la Parouillerie\, Orvault\, 44700\, France
CATEGORIES:grand public
ATTACH;FMTTYPE=image/png:https://entoureeparlanature.fr/wp-content/uploads/2023/04/parc_gaudiniere.png
ORGANIZER;CN="Entour%C3%A9e par la nature":MAILTO:contact@entoureeparlanature.fr
END:VEVENT
BEGIN:VEVENT
DTSTART;TZID=Europe/Helsinki:20230531T143000
DTEND;TZID=Europe/Helsinki:20230531T160000
DTSTAMP:20260422T060616
CREATED:20230425T111528Z
LAST-MODIFIED:20230425T171133Z
UID:572-1685543400-1685548800@entoureeparlanature.fr
SUMMARY:Sortie des petits : Libellules et petites bêtes
DESCRIPTION:Dans la vallée du Cens vivent de nombreux insectes. Nous allons partir à leur recherche\, observer leurs couleurs\, leurs formes\, comment ils se déplacent\, et enfin\, créer un petit souvenir de la balade\, à ramener chez-soi. \nPour les enfants à partir de 3 ans. \nTarif pour un enfant et son accompagnateur : 8 € \nInscriptions et renseignements auprès de Marine au 06 08 47 78 50 contact@entoureeparlanature.fr \nLieu de rdv communiqué au moment de l’inscription
URL:https://entoureeparlanature.fr/sortie/sortie-des-petits-libellules-et-petites-betes/
LOCATION:Vallée du Cens\, Rue du Pont aux prêtres\, Orvault\, 44700\, France
CATEGORIES:petits 3-6 ans
ATTACH;FMTTYPE=image/jpeg:https://entoureeparlanature.fr/wp-content/uploads/2023/04/libellule.jpg
ORGANIZER;CN="Entour%C3%A9e par la nature":MAILTO:contact@entoureeparlanature.fr
END:VEVENT
END:VCALENDAR