BEGIN:VCALENDAR
VERSION:2.0
PRODID:-//Entourée par la nature - ECPv6.15.20//NONSGML v1.0//EN
CALSCALE:GREGORIAN
METHOD:PUBLISH
X-ORIGINAL-URL:https://entoureeparlanature.fr
X-WR-CALDESC:Évènements pour Entourée par la nature
REFRESH-INTERVAL;VALUE=DURATION:PT1H
X-Robots-Tag:noindex
X-PUBLISHED-TTL:PT1H
BEGIN:VTIMEZONE
TZID:Europe/Helsinki
BEGIN:DAYLIGHT
TZOFFSETFROM:+0200
TZOFFSETTO:+0300
TZNAME:EEST
DTSTART:20220327T010000
END:DAYLIGHT
BEGIN:STANDARD
TZOFFSETFROM:+0300
TZOFFSETTO:+0200
TZNAME:EET
DTSTART:20221030T010000
END:STANDARD
BEGIN:DAYLIGHT
TZOFFSETFROM:+0200
TZOFFSETTO:+0300
TZNAME:EEST
DTSTART:20230326T010000
END:DAYLIGHT
BEGIN:STANDARD
TZOFFSETFROM:+0300
TZOFFSETTO:+0200
TZNAME:EET
DTSTART:20231029T010000
END:STANDARD
BEGIN:DAYLIGHT
TZOFFSETFROM:+0200
TZOFFSETTO:+0300
TZNAME:EEST
DTSTART:20240331T010000
END:DAYLIGHT
BEGIN:STANDARD
TZOFFSETFROM:+0300
TZOFFSETTO:+0200
TZNAME:EET
DTSTART:20241027T010000
END:STANDARD
END:VTIMEZONE
BEGIN:VEVENT
DTSTART;TZID=Europe/Helsinki:20230603T223000
DTEND;TZID=Europe/Helsinki:20230603T223000
DTSTAMP:20260422T043544
CREATED:20230425T134817Z
LAST-MODIFIED:20230427T103459Z
UID:578-1685831400-1685831400@entoureeparlanature.fr
SUMMARY:Balade nocturne en forêt de Touffou
DESCRIPTION:La nuit\, à l’écoute de tous nos sens\, découvrons la forêt de Touffou. Des activités ludiques nous permettrons de nous familiariser avec l’obscurité. Nous partirons ensuite à la rencontre de quelques-uns des habitants de la forêt comme les oiseaux\, les grenouilles\, ou les papillons de nuit. \nTarif : adulte 12 € \, enfant 5 € \nGrand public \nInscriptions et renseignements auprès de Marine au 06 08 47 78 50 contact@entoureeparlanature.fr \nLieu de rdv communiqué au moment de l’inscription
URL:https://entoureeparlanature.fr/sortie/balade-nocturne-en-foret-de-touffou/
LOCATION:Forêt de Touffou\, Vertou\, 44120\, France
CATEGORIES:grand public
ATTACH;FMTTYPE=image/jpeg:https://entoureeparlanature.fr/wp-content/uploads/2023/04/moon-g6c2c371a5_640.jpg
ORGANIZER;CN="Entour%C3%A9e par la nature":MAILTO:contact@entoureeparlanature.fr
END:VEVENT
BEGIN:VEVENT
DTSTART;TZID=Europe/Helsinki:20230604T093000
DTEND;TZID=Europe/Helsinki:20230604T113000
DTSTAMP:20260422T043544
CREATED:20230525T144652Z
LAST-MODIFIED:20230526T155419Z
UID:614-1685871000-1685878200@entoureeparlanature.fr
SUMMARY:Les parents oiseaux du Parc de Procé
DESCRIPTION:Pourquoi les femelles canards sont-elles moins colorées que les mâles ? Comment les oiseaux se répartissent-ils les taches dans le couple ? Cette balade au parc de Procé permettra de combiner observations d’oiseaux\, et connaissance des comportements parentaux chez les oiseaux\, en l’honneur de la fête de mamans. \nTarif : adulte 12 € \, enfant 5 € \nGrand public à partir de 10 ans \nInscriptions et renseignements auprès de Marine au 06 08 47 78 50 contact@entoureeparlanature.fr \nLieu de rdv communiqué au moment de l’inscription
URL:https://entoureeparlanature.fr/sortie/les-parents-oiseaux-du-parc-de-proce/
LOCATION:parc de procé\, 140 bd des anglais\, Nantes\, 44100\, France
CATEGORIES:grand public
ATTACH;FMTTYPE=image/jpeg:https://entoureeparlanature.fr/wp-content/uploads/2023/05/maman_canard_.jpg
ORGANIZER;CN="Entour%C3%A9e par la nature":MAILTO:contact@entoureeparlanature.fr
END:VEVENT
BEGIN:VEVENT
DTSTART;TZID=Europe/Helsinki:20230607T143000
DTEND;TZID=Europe/Helsinki:20230607T160000
DTSTAMP:20260422T043544
CREATED:20230525T152200Z
LAST-MODIFIED:20230525T152429Z
UID:619-1686148200-1686153600@entoureeparlanature.fr
SUMMARY:Botaniste en herbe
DESCRIPTION:Au cours de cette sortie créative\, les enfants apprendront à fabriquer et relier un carnet de naturaliste. Ils le rempliront sur le terrain avec l’aide d’une animatrice nature qui les aidera à reconnaître et comprendre différents aspects de la biologie des plantes par de la cueillette\, de la prise d’empreinte ou encore du dessin d’observation. \nPour les enfants à partir de 6 ans. \nTarif pour un enfant accompagné : 8 € \nInscriptions et renseignements auprès de Marine au 06 08 47 78 50 contact@entoureeparlanature.fr \nLieu de rdv communiqué au moment de l’inscription
URL:https://entoureeparlanature.fr/sortie/botaniste-en-herbe/
LOCATION:Hippodrome de Nantes\, 5 bd des tribunes\, Nantes\, 44300
CATEGORIES:enfants à partir de 6 ans
ATTACH;FMTTYPE=image/jpeg:https://entoureeparlanature.fr/wp-content/uploads/2023/05/atelier_botanique-enfants.jpg
ORGANIZER;CN="Entour%C3%A9e par la nature":MAILTO:contact@entoureeparlanature.fr
END:VEVENT
BEGIN:VEVENT
DTSTART;TZID=Europe/Helsinki:20230610T200000
DTEND;TZID=Europe/Helsinki:20230610T220000
DTSTAMP:20260422T043544
CREATED:20230525T163216Z
LAST-MODIFIED:20230527T205410Z
UID:622-1686427200-1686434400@entoureeparlanature.fr
SUMMARY:L’Erdre au crépuscule
DESCRIPTION:Venez profiter de l’ambiance qui règne au bord de l’Erdre au crépuscule accompagnés d’une guide naturaliste. \nGrand public à partir de 8 ans. Tarif : adulte 12 €\, enfant : 5 €\, Prêt de jumelles inclus. \nInscriptions et renseignements auprès de Marine au 06 08 47 78 50 contact@entoureeparlanature.fr
URL:https://entoureeparlanature.fr/sortie/erdre-au-crepuscule/
LOCATION:Pont de la Tortière\, 1 bd des professeurs Sourdille\, Nantes\, Nantes\, 44000
CATEGORIES:grand public
ATTACH;FMTTYPE=image/jpeg:https://entoureeparlanature.fr/wp-content/uploads/2023/05/heron.jpg
ORGANIZER;CN="Entour%C3%A9e par la nature":MAILTO:contact@entoureeparlanature.fr
END:VEVENT
BEGIN:VEVENT
DTSTART;TZID=Europe/Helsinki:20230611T093000
DTEND;TZID=Europe/Helsinki:20230611T113000
DTSTAMP:20260422T043544
CREATED:20230525T195826Z
LAST-MODIFIED:20230525T200506Z
UID:626-1686475800-1686483000@entoureeparlanature.fr
SUMMARY:Des cigognes aux portes de Nantes
DESCRIPTION:Pas besoin d’aller jusqu’en Alsace pour voir des cigognes. Venez observer ces magnifiques oiseaux à 20 minutes de Nantes\, accompagnés d’une guide naturaliste Vous découvrirez le milieu des marais et ses habitants. \nBalade grand public\, à partir de 10 ans. \nPrêt d’une paire de jumelles par personnes \nTarif : adulte 12 euros\, enfants 5 euros \nInscriptions et renseignements auprès de Marine au 06 08 47 78 50 contact@entoureeparlanature.fr
URL:https://entoureeparlanature.fr/sortie/des-cigognes-aux-portes-de-nantes/
LOCATION:Marais Audubon\, Couëron\, 44220\, France
CATEGORIES:grand public
ATTACH;FMTTYPE=image/jpeg:https://entoureeparlanature.fr/wp-content/uploads/2023/05/cigogne-coueron-marais-audubon-nantes.jpg
ORGANIZER;CN="Entour%C3%A9e par la nature":MAILTO:contact@entoureeparlanature.fr
END:VEVENT
BEGIN:VEVENT
DTSTART;TZID=Europe/Helsinki:20230614T160000
DTEND;TZID=Europe/Helsinki:20230614T173000
DTSTAMP:20260422T043544
CREATED:20230526T084839Z
LAST-MODIFIED:20230527T163429Z
UID:633-1686758400-1686763800@entoureeparlanature.fr
SUMMARY:Sur la piste de la faune sauvage des îles de Loire
DESCRIPTION:Des animaux se promènent sur les îles de Loire quand nous n’y sommes pas. Ils laissent des indices derrière eux. Saurons-nous les retrouver et reconnaître qui est passé par là ? \nSortie spéciale pour les familles avec des enfants à partir de 6 ans \nTarif : 8 euros par enfant accompagné \nInscriptions et renseignements auprès de Marine au 06 08 47 78 50 contact@entoureeparlanature.fr
URL:https://entoureeparlanature.fr/sortie/sur-la-piste-de-la-faune-sauvage-des-iles-de-loire/
LOCATION:Ile Forget\, Saint-Sébastien-sur-Loire\, France
CATEGORIES:enfants à partir de 6 ans,spécial familles
ATTACH;FMTTYPE=image/jpeg:https://entoureeparlanature.fr/wp-content/uploads/2023/05/traces_faune_sauvage__1.jpg
ORGANIZER;CN="Entour%C3%A9e par la nature":MAILTO:contact@entoureeparlanature.fr
END:VEVENT
BEGIN:VEVENT
DTSTART;TZID=Europe/Helsinki:20230618T150000
DTEND;TZID=Europe/Helsinki:20230618T170000
DTSTAMP:20260422T043544
CREATED:20230526T095848Z
LAST-MODIFIED:20230527T172229Z
UID:638-1687100400-1687107600@entoureeparlanature.fr
SUMMARY:Balade sensorielle et sensible en forêt
DESCRIPTION:Laissez-vous guider pour vivre une expérience sensorielle et ludique dans la forêt. Cette expérience hors du temps pourra être source d’inspiration pour repenser vos balades dans la nature. \nGrand public\, familles à partir de 6 ans. \nTarif : 8 euros par participant \nInscriptions et renseignements auprès de Marine au 06 08 47 78 50 contact@entoureeparlanature.fr
URL:https://entoureeparlanature.fr/sortie/638/
LOCATION:Port Barbe\, La\, Le Port Barbe\, La Chapelle-sur-Erdre\, France
CATEGORIES:grand public,spécial familles
ATTACH;FMTTYPE=image/jpeg:https://entoureeparlanature.fr/wp-content/uploads/2023/05/nature-sensible1.jpg
END:VEVENT
BEGIN:VEVENT
DTSTART;TZID=Europe/Helsinki:20230621T143000
DTEND;TZID=Europe/Helsinki:20230621T160000
DTSTAMP:20260422T043544
CREATED:20230526T101530Z
LAST-MODIFIED:20230528T133304Z
UID:642-1687357800-1687363200@entoureeparlanature.fr
SUMMARY:La vie secrète des libellules et des coccinelles
DESCRIPTION:Dans la vallée du Cens vivent de nombreux insectes. Nous allons partir à leur recherche\, observer leurs couleurs\, leurs formes\, comment ils se déplacent\, et enfin\, créer un petit souvenir de la balade\, à ramener chez-soi. \nTarif pour un enfant et son accompagnateur : 8 €. \nDivers ateliers à partir de 5 ans. \nInscriptions et renseignements auprès de Marine au 06 08 47 78 50 contact@entoureeparlanature.fr \nLieu de rdv communiqué au moment de l’inscription
URL:https://entoureeparlanature.fr/sortie/la-vie-secrete-des-libellules-et-des-coccinelles/
LOCATION:Petit Port\, 21 bd du petit port\, Nantes\, 44300\, France
CATEGORIES:enfants à partir de 6 ans
ATTACH;FMTTYPE=image/jpeg:https://entoureeparlanature.fr/wp-content/uploads/2023/04/libellule.jpg
ORGANIZER;CN="Entour%C3%A9e par la nature":MAILTO:contact@entoureeparlanature.fr
END:VEVENT
BEGIN:VEVENT
DTSTART;TZID=Europe/Helsinki:20230628T093000
DTEND;TZID=Europe/Helsinki:20230628T113000
DTSTAMP:20260422T043544
CREATED:20230528T133940Z
LAST-MODIFIED:20230528T135036Z
UID:677-1687944600-1687951800@entoureeparlanature.fr
SUMMARY:Les passereaux du jardin des plantes
DESCRIPTION:En plein centre ville\, le jardin des plantes est un havre de verdure. Equipé d’une paire de jumelles et accompagné par une guide naturaliste\, partez à leur découverte aux 4 coins du parc. \nTarif : adulte 12 euros\, enfant 5 euros (à partir de 8 ans) \nInscriptions et renseignements auprès de Marine au 06 08 47 78 50 contact@entoureeparlanature.fr \nLieu de rdv communiqué au moment de l’inscription
URL:https://entoureeparlanature.fr/sortie/les-passereaux-du-jardin-des-plantes/
LOCATION:Jardin des plantes\, rue Ecorchard\, Nantes\, 44000\, France
CATEGORIES:grand public
ATTACH;FMTTYPE=image/jpeg:https://entoureeparlanature.fr/wp-content/uploads/2023/04/etourneau_philippe_mabileau.jpg
ORGANIZER;CN="Entour%C3%A9e par la nature":MAILTO:contact@entoureeparlanature.fr
END:VEVENT
END:VCALENDAR