BEGIN:VCALENDAR
VERSION:2.0
PRODID:-//Entourée par la nature - ECPv6.15.20//NONSGML v1.0//EN
CALSCALE:GREGORIAN
METHOD:PUBLISH
X-ORIGINAL-URL:https://entoureeparlanature.fr
X-WR-CALDESC:Évènements pour Entourée par la nature
REFRESH-INTERVAL;VALUE=DURATION:PT1H
X-Robots-Tag:noindex
X-PUBLISHED-TTL:PT1H
BEGIN:VTIMEZONE
TZID:Europe/Helsinki
BEGIN:DAYLIGHT
TZOFFSETFROM:+0200
TZOFFSETTO:+0300
TZNAME:EEST
DTSTART:20220327T010000
END:DAYLIGHT
BEGIN:STANDARD
TZOFFSETFROM:+0300
TZOFFSETTO:+0200
TZNAME:EET
DTSTART:20221030T010000
END:STANDARD
BEGIN:DAYLIGHT
TZOFFSETFROM:+0200
TZOFFSETTO:+0300
TZNAME:EEST
DTSTART:20230326T010000
END:DAYLIGHT
BEGIN:STANDARD
TZOFFSETFROM:+0300
TZOFFSETTO:+0200
TZNAME:EET
DTSTART:20231029T010000
END:STANDARD
BEGIN:DAYLIGHT
TZOFFSETFROM:+0200
TZOFFSETTO:+0300
TZNAME:EEST
DTSTART:20240331T010000
END:DAYLIGHT
BEGIN:STANDARD
TZOFFSETFROM:+0300
TZOFFSETTO:+0200
TZNAME:EET
DTSTART:20241027T010000
END:STANDARD
END:VTIMEZONE
BEGIN:VEVENT
DTSTART;TZID=Europe/Helsinki:20230705T143000
DTEND;TZID=Europe/Helsinki:20230705T160000
DTSTAMP:20260422T032027
CREATED:20230614T143646Z
LAST-MODIFIED:20230614T143646Z
UID:761-1688567400-1688572800@entoureeparlanature.fr
SUMMARY:A la recherche des insectes du Parc du Grand Blottereau
DESCRIPTION: Une sortie spéciale pour mieux connaître les petites bêtes du Parc du Grand Blottereau. Quelles sont les méthodes pour attraper les insectes sans les blesser ? Comment sont-ils faits ? Comment vivent-ils ? Activités nature pour les enfants de 3 à 12 ans.\nTarif pour un enfant et son accompagnateur : 8 €\nInscriptions et renseignements auprès de Marine au 06 08 47 78 50 contact@entoureeparlanature.fr\nLieu de rdv communiqué au moment de l’inscription.\nPlus de balades sur le site https://entoureeparlanature.fr/sorties
URL:https://entoureeparlanature.fr/sortie/a-la-recherche-des-insectes-du-parc-du-grand-blottereau/
LOCATION:Parc du Grand Blottereau\, 16 Bd Auguste Peneau\, 44000\, France
CATEGORIES:enfants à partir de 6 ans,petits 3-6 ans,spécial familles
ATTACH;FMTTYPE=image/jpeg:https://entoureeparlanature.fr/wp-content/uploads/2023/04/libellule.jpg
ORGANIZER;CN="Entour%C3%A9e par la nature":MAILTO:contact@entoureeparlanature.fr
END:VEVENT
BEGIN:VEVENT
DTSTART;TZID=Europe/Helsinki:20230708T143000
DTEND;TZID=Europe/Helsinki:20230708T160000
DTSTAMP:20260422T032027
CREATED:20230614T144333Z
LAST-MODIFIED:20230621T165815Z
UID:763-1688826600-1688832000@entoureeparlanature.fr
SUMMARY:Atelier créatif botanique : initation au cyanotype
DESCRIPTION:Initiation à une méthode de création extraordinaire. Nous cueillerons et ramasserons quelques trésors de la nature\, puis découvrirons le procédé de photographie instantanée du Cyanotype : Préparation du papier\, composition\, et fixation. Chacun repartira avec sa création bleue. Tout public à partir de 10 ans. \nTarif adulte 15 euros\, enfant :12 euros\nInscriptions et renseignements auprès de Marine au 06 08 47 78 50 contact@entoureeparlanature.fr\nLieu de rdv communiqué au moment de l’inscription.\nPlus de balades sur le site https : https://entoureeparlanature.fr/sorties
URL:https://entoureeparlanature.fr/sortie/entre-science-photographie-peinture-et-chasse-au-tresor-le-cyanotype/
LOCATION:Petit Port\, 21 bd du petit port\, Nantes\, 44300\, France
CATEGORIES:grand public
ATTACH;FMTTYPE=image/png:https://entoureeparlanature.fr/wp-content/uploads/2023/06/cyanotype-botanique-e1727213026243.png
ORGANIZER;CN="Entour%C3%A9e par la nature":MAILTO:contact@entoureeparlanature.fr
END:VEVENT
BEGIN:VEVENT
DTSTART;TZID=Europe/Helsinki:20230722T103000
DTEND;TZID=Europe/Helsinki:20230722T123000
DTSTAMP:20260422T032027
CREATED:20230706T152729Z
LAST-MODIFIED:20230706T152729Z
UID:836-1690021800-1690029000@entoureeparlanature.fr
SUMMARY:Balade sensorielle et sensible en famille
DESCRIPTION:Une balade en famille sur les îles de Loire où nous allons explorer la nature qui nous entoure avec 4 de nos sens : l’odorat\, l’ouïe\, le toucher et la vue. Des activités ludiques variées pour se balader autrement.  \nTout public à partir de 6 ans. Tarif unique 8 euros par personne \n\nInscriptions et renseignements auprès de Marine au 06 08 47 78 50 contact@entoureeparlanature.fr\nLieu de rendez-vous communiqué au moment de l’inscription.
URL:https://entoureeparlanature.fr/sortie/balade-sensorielle-et-sensible-en-famille/
LOCATION:Ile Forget\, Saint-Sébastien-sur-Loire\, France
CATEGORIES:enfants à partir de 6 ans,spécial familles
ATTACH;FMTTYPE=image/jpeg:https://entoureeparlanature.fr/wp-content/uploads/2023/03/animation_famille_nantes-scaled-e1681728090672.jpg
ORGANIZER;CN="Entour%C3%A9e par la nature":MAILTO:contact@entoureeparlanature.fr
END:VEVENT
BEGIN:VEVENT
DTSTART;TZID=Europe/Helsinki:20230726T153000
DTEND;TZID=Europe/Helsinki:20230726T170000
DTSTAMP:20260422T032027
CREATED:20230614T145219Z
LAST-MODIFIED:20230614T145219Z
UID:766-1690385400-1690390800@entoureeparlanature.fr
SUMMARY:A la recherche des insectes du Bord de l’Erdre
DESCRIPTION:Une sortie spéciale pour mieux connaître les petites bêtes qui vivent au bord de l’Erdre. Quelles méthodes pour attraper les insectes sans les blesser ? Comment sont-ils faits ? Comment vivent-ils ?  Plusieurs activités pour les enfants de 3 à 12 ans.\nTarif pour un enfant et son accompagnateur : 8 €\nInscriptions et renseignements auprès de Marine au 06 08 47 78 50 contact@entoureeparlanature.fr\nLieu de rdv communiqué au moment de l’inscription.\nPlus de balades sur le site https://entoureeparlanature.fr/sorties
URL:https://entoureeparlanature.fr/sortie/a-la-recherche-des-insectes-du-bord-de-lerdre/
LOCATION:Port Boyer\, rue du Port Boyer\, Nantes\, 44300\, France
CATEGORIES:enfants à partir de 6 ans,petits 3-6 ans,spécial familles
ATTACH;FMTTYPE=image/jpeg:https://entoureeparlanature.fr/wp-content/uploads/2023/04/libellule.jpg
ORGANIZER;CN="Entour%C3%A9e par la nature":MAILTO:contact@entoureeparlanature.fr
END:VEVENT
BEGIN:VEVENT
DTSTART;TZID=Europe/Helsinki:20230729T140000
DTEND;TZID=Europe/Helsinki:20230729T140000
DTSTAMP:20260422T032027
CREATED:20230707T070919Z
LAST-MODIFIED:20230726T211549Z
UID:858-1690639200-1690639200@entoureeparlanature.fr
SUMMARY:Atelier créatif et botanique : expérimenter la création en bleu marine au Séchoir du Liveau
DESCRIPTION:Venez randonner le long de la Sèvre nantaise\, et arrêtez-vous au café associatif du Séchoir du Liveau\, à Gorges. Vous pourrez participer à un atelier ouvert sur la couleur bleue : \n– Si vous avez envie de créer votre carte postale végétale avec la méthode du cyanotype\, vous serez avec moi \n– Si vous préférez expérimenter avec la teinture d’indigo\, rdv avec Lucy de l’association des Ecolorés. \nC’est un atelier ouvert au cours de l’après-midi\, entre 14 et 17h00 avec des initiations toutes les demi-heures. \nTarif : 5 euros pour la confection de votre carte postale originale. \nPas besoin de réserver\, on vous accueillera au café au fil de l’eau.
URL:https://entoureeparlanature.fr/sortie/experimenter-la-creation-en-bleu-marine/
LOCATION:Séchoir du Liveau\, 19\, Le Liveau\, Gorges\, 44190
CATEGORIES:grand public
ATTACH;FMTTYPE=image/png:https://entoureeparlanature.fr/wp-content/uploads/2023/06/cyanotype-botanique-e1727213026243.png
ORGANIZER;CN="Entour%C3%A9e par la nature":MAILTO:contact@entoureeparlanature.fr
END:VEVENT
BEGIN:VEVENT
DTSTART;TZID=Europe/Helsinki:20230729T220000
DTEND;TZID=Europe/Helsinki:20230730T000000
DTSTAMP:20260422T032027
CREATED:20230614T150210Z
LAST-MODIFIED:20230727T095413Z
UID:773-1690668000-1690675200@entoureeparlanature.fr
SUMMARY:Balade nature nocturne en forêt
DESCRIPTION:La nuit\, à l’écoute de tous nos sens\, découvrons la forêt de Touffou. Des activités ludiques nous permettrons de nous familiariser avec l’obscurité. Nous partirons ensuite à la rencontre de quelques-uns des habitants de la forêt comme les oiseaux\, les grenouilles\, ou les papillons de nuit. Grand public \nTarif : adulte 12 € \, enfant 5 €. \nInscriptions et renseignements auprès de Marine au 06 08 47 78 50 contact@entoureeparlanature.fr \nLieu de rdv communiqué au moment de l’inscription
URL:https://entoureeparlanature.fr/sortie/balade-nature-nocturne-en-foret/
LOCATION:Forêt de Touffou\, Vertou\, 44120\, France
CATEGORIES:grand public
ATTACH;FMTTYPE=image/png:https://entoureeparlanature.fr/wp-content/uploads/2023/06/grenouille_nuit_foret.png
ORGANIZER;CN="Entour%C3%A9e par la nature":MAILTO:contact@entoureeparlanature.fr
END:VEVENT
END:VCALENDAR