BEGIN:VCALENDAR
VERSION:2.0
PRODID:-//Entourée par la nature - ECPv6.15.20//NONSGML v1.0//EN
CALSCALE:GREGORIAN
METHOD:PUBLISH
X-WR-CALNAME:Entourée par la nature
X-ORIGINAL-URL:https://entoureeparlanature.fr
X-WR-CALDESC:Évènements pour Entourée par la nature
REFRESH-INTERVAL;VALUE=DURATION:PT1H
X-Robots-Tag:noindex
X-PUBLISHED-TTL:PT1H
BEGIN:VTIMEZONE
TZID:Europe/Helsinki
BEGIN:DAYLIGHT
TZOFFSETFROM:+0200
TZOFFSETTO:+0300
TZNAME:EEST
DTSTART:20220327T010000
END:DAYLIGHT
BEGIN:STANDARD
TZOFFSETFROM:+0300
TZOFFSETTO:+0200
TZNAME:EET
DTSTART:20221030T010000
END:STANDARD
BEGIN:DAYLIGHT
TZOFFSETFROM:+0200
TZOFFSETTO:+0300
TZNAME:EEST
DTSTART:20230326T010000
END:DAYLIGHT
BEGIN:STANDARD
TZOFFSETFROM:+0300
TZOFFSETTO:+0200
TZNAME:EET
DTSTART:20231029T010000
END:STANDARD
BEGIN:DAYLIGHT
TZOFFSETFROM:+0200
TZOFFSETTO:+0300
TZNAME:EEST
DTSTART:20240331T010000
END:DAYLIGHT
BEGIN:STANDARD
TZOFFSETFROM:+0300
TZOFFSETTO:+0200
TZNAME:EET
DTSTART:20241027T010000
END:STANDARD
END:VTIMEZONE
BEGIN:VEVENT
DTSTART;TZID=Europe/Helsinki:20231001T093000
DTEND;TZID=Europe/Helsinki:20231001T113000
DTSTAMP:20260421T232107
CREATED:20230907T070105Z
LAST-MODIFIED:20230907T070105Z
UID:975-1696152600-1696159800@entoureeparlanature.fr
SUMMARY:Sur les traces de la faune sauvage des îles de Loire
DESCRIPTION:Cherchons ensemble les traces des animaux et les indices qui témoignent du passage et des activités de la faune sauvage sur les îles de Loire. Nous apprendrons aussi à recueillir une copie d’empreinte dans du plâtre ! \nCette animation est adaptée pour les enfants à partir de 6 ans\, accompagnés d’un parent. \nTarif : Tandem parent-adulte\, enfant 10 € – 8 euros par enfant supplémentaire – 2h – Jeune public – A partir de 6 ans \nInscriptions et renseignements auprès de Marine au 06 08 47 78 50 contact@entoureeparlanature.fr \nLieu de rdv communiqué au moment de l’inscription
URL:https://entoureeparlanature.fr/sortie/traces-indices-faune-sauvage-des-iles-de-loire/
LOCATION:Ile Forget\, Saint-Sébastien-sur-Loire\, France
ATTACH;FMTTYPE=image/jpeg:https://entoureeparlanature.fr/wp-content/uploads/2023/05/traces_faune_sauvage__1.jpg
ORGANIZER;CN="Entour%C3%A9e par la nature":MAILTO:contact@entoureeparlanature.fr
END:VEVENT
BEGIN:VEVENT
DTSTART;TZID=Europe/Helsinki:20231008T093000
DTEND;TZID=Europe/Helsinki:20231008T120000
DTSTAMP:20260421T232107
CREATED:20230923T091248Z
LAST-MODIFIED:20230923T091248Z
UID:996-1696757400-1696766400@entoureeparlanature.fr
SUMMARY:Sortie nature : les oiseaux du Lac de Beaulieu
DESCRIPTION:Venez découvrir le lac de Beaulieu et son avifaune en compagnie d’une guide naturaliste. Equipé de jumelles\, initiez-vous simplement à l’ornithologie à Couëron : canards\, grèbes\, hérons\, passereaux seront au rendez-vous et vous apprendrez à mieux les connaître ! \nTarif : Adulte 12 euros\, Enfant 5 euros – 2h15 – Grand public – A partir de 8 ans \nPrêt d’une paire de jumelles par participant \nInscriptions et renseignements auprès de Marine au 06 08 47 78 50 contact@entoureeparlanature.fr \nLieu de rdv communiqué au moment de l’inscription
URL:https://entoureeparlanature.fr/sortie/oiseaux_lac_beaulieu_coueron/
LOCATION:Lac de Beaulieu\, Lac de Beaulieu\, Couëron\, 44220\, France
ATTACH;FMTTYPE=image/jpeg:https://entoureeparlanature.fr/wp-content/uploads/2023/05/20230324_093209-scaled-e1685032007735.jpg
ORGANIZER;CN="Entour%C3%A9e par la nature":MAILTO:contact@entoureeparlanature.fr
END:VEVENT
BEGIN:VEVENT
DTSTART;TZID=Europe/Helsinki:20231008T150000
DTEND;TZID=Europe/Helsinki:20231008T170000
DTSTAMP:20260421T232107
CREATED:20231005T130618Z
LAST-MODIFIED:20231006T173228Z
UID:1020-1696777200-1696784400@entoureeparlanature.fr
SUMMARY:Jouons ensemble à sentir la forêt
DESCRIPTION:Se familiariser avec le milieu forestier par le jeu ? C’est ce qui vous est proposé. Cette balade nature guidée mettra en action tous vos sens par une succession de propositions ludiques avec ou sans la vue ! Tout seul ou en binôme\, laissez-vous guider 🙂 \nTarif : Adulte 12 euros\, Enfant 5 euros – 2h15 – Grand public – A partir de 4 ans \nPrêt d’une paire de jumelles par participant \nInscriptions et renseignements auprès de Marine au 06 08 47 78 50 contact@entoureeparlanature.fr
URL:https://entoureeparlanature.fr/sortie/jouons-ensemble-foret-balade-sensorielle/
LOCATION:Port Barbe\, La\, Le Port Barbe\, La Chapelle-sur-Erdre\, France
ATTACH;FMTTYPE=image/jpeg:https://entoureeparlanature.fr/wp-content/uploads/2023/10/ressentir_foret_2.jpg
ORGANIZER;CN="Entour%C3%A9e par la nature":MAILTO:contact@entoureeparlanature.fr
END:VEVENT
BEGIN:VEVENT
DTSTART;TZID=Europe/Helsinki:20231015T093000
DTEND;TZID=Europe/Helsinki:20231015T114500
DTSTAMP:20260421T232107
CREATED:20231005T062621Z
LAST-MODIFIED:20231005T063504Z
UID:1003-1697362200-1697370300@entoureeparlanature.fr
SUMMARY:Exploration d’une île de Loire façonnée par l’eau et les hommes
DESCRIPTION:L’île de Nantes a résisté à bien des crues et des marées… Partez à sa découverte avec une guide naturaliste. Elle garde des traces de son histoire et constitue un point d’observation privilégié pour parler des changements globaux. Que deviendront nos îles et notre ville dans 50 ans ?\nTarif : Adulte 12 euros\, Enfant 5 euros – 2h15 – Grand public – A partir de 8 ans\nPrêt d’une paire de jumelles par participant\nInscriptions et renseignements auprès de Marine au 06 08 47 78 50 contact@entoureeparlanature.fr
URL:https://entoureeparlanature.fr/sortie/exploration-ile-nantes-loire-eau-hommes-beaulieu/
LOCATION:Parc CRAPA\, Rue du Pré Salé\, Nantes\, 44200
ATTACH;FMTTYPE=image/jpeg:https://entoureeparlanature.fr/wp-content/uploads/2023/10/ile-nantes-montee-eau.jpg
ORGANIZER;CN="Entour%C3%A9e par la nature":MAILTO:contact@entoureeparlanature.fr
END:VEVENT
BEGIN:VEVENT
DTSTART;TZID=Europe/Helsinki:20231015T150000
DTEND;TZID=Europe/Helsinki:20231015T170000
DTSTAMP:20260421T232107
CREATED:20231005T135510Z
LAST-MODIFIED:20231005T135510Z
UID:1023-1697382000-1697389200@entoureeparlanature.fr
SUMMARY:Atelier de construction d’un village éphémère de lutins
DESCRIPTION:Il parait que des fées\, des lutins\, des gnomes et d’autres êtres mystérieux vivent en pleine nature et ne sortent que la nuit… Explorons votre imagination et construisons ensemble leur royaume le temps d’une sortie grâce à des éléments de la nature 🙂 Tous les outils de construction et d’assemblage seront fournis.\nTarif unique spécial lutins : 5 euros par personne – 2h– Grand public – Inscriptions et renseignements auprès de Marine au 06 08 47 78 50 contact@entoureeparlanature.fr
URL:https://entoureeparlanature.fr/sortie/construction-ephemere-village-lutins/
LOCATION:Port Boyer\, rue du Port Boyer\, Nantes\, 44300\, France
ATTACH;FMTTYPE=image/png:https://entoureeparlanature.fr/wp-content/uploads/2023/10/fee.png
ORGANIZER;CN="Entour%C3%A9e par la nature":MAILTO:contact@entoureeparlanature.fr
END:VEVENT
BEGIN:VEVENT
DTSTART;TZID=Europe/Helsinki:20231020T183000
DTEND;TZID=Europe/Helsinki:20231020T203000
DTSTAMP:20260421T232107
CREATED:20231005T072534Z
LAST-MODIFIED:20231005T072534Z
UID:1011-1697826600-1697833800@entoureeparlanature.fr
SUMMARY:Balade nature au crépuscule au bord de l’Erdre
DESCRIPTION:Les cris des hérons résonnent\, vous voyez passer en vol les cormorans qui vont se coucher… Venez marcher au bord de l’eau et immergez-vous dans cette ambiance si particulière qui précède la nuit. Vous découvrirez la faune et la flore des bords de l’Erdre en compagnie d’une guide naturaliste. \nTarif : Adulte 12 euros\, Enfant 5 euros – 2h15 – Grand public – A partir de 8 ans \nPrêt d’une paire de jumelles par participant \nInscriptions et renseignements auprès de Marine au 06 08 47 78 50 contact@entoureeparlanature.fr
URL:https://entoureeparlanature.fr/sortie/balade-nature-crepuscule-erdre-nantes/
LOCATION:Pont de la Tortière\, 1 bd des professeurs Sourdille\, Nantes\, Nantes\, 44000
ATTACH;FMTTYPE=image/jpeg:https://entoureeparlanature.fr/wp-content/uploads/2023/05/20230324_093209-scaled-e1685032007735.jpg
ORGANIZER;CN="Entour%C3%A9e par la nature":MAILTO:contact@entoureeparlanature.fr
END:VEVENT
BEGIN:VEVENT
DTSTART;TZID=Europe/Helsinki:20231022T093000
DTEND;TZID=Europe/Helsinki:20231022T114500
DTSTAMP:20260421T232107
CREATED:20231005T054916Z
LAST-MODIFIED:20231005T055107Z
UID:1000-1697967000-1697975100@entoureeparlanature.fr
SUMMARY:Les oiseaux de l’étang Hervé\, Carquefou
DESCRIPTION:Venez découvrir la campagne de Carquefou et suivez l’étang Hervé et son ruisseau ! Nous découvrirons sa biodiversité avec une guide naturaliste. Equipé de jumelles\, initiez-vous simplement à l’ornithologie ! \nTarif : Adulte 12 euros\, Enfant 5 euros – 2h15 – Grand public – A partir de 8 ans \nPrêt d’une paire de jumelles par participant \nInscriptions et renseignements auprès de Marine au 06 08 47 78 50 contact@entoureeparlanature.fr \nLieu de rdv communiqué au moment de l’inscription
URL:https://entoureeparlanature.fr/sortie/sortie-oiseaux-etang-herve-carquefou/
LOCATION:Carquefou\, Carquefou\, 44470\, France
ATTACH;FMTTYPE=image/jpeg:https://entoureeparlanature.fr/wp-content/uploads/2023/04/observation_oiseaux_erdre_individuel.jpg
ORGANIZER;CN="Entour%C3%A9e par la nature":MAILTO:contact@entoureeparlanature.fr
END:VEVENT
BEGIN:VEVENT
DTSTART;TZID=Europe/Helsinki:20231022T143000
DTEND;TZID=Europe/Helsinki:20231022T170000
DTSTAMP:20260421T232107
CREATED:20231005T123707Z
LAST-MODIFIED:20231005T123707Z
UID:1016-1697985000-1697994000@entoureeparlanature.fr
SUMMARY:Balade botanique créative : empreintes végétales
DESCRIPTION:Au cours de cette balade botanique\, les feuilles des arbres seront à l’honneur. Nous apprendrons plusieurs techniques d’arts plastiques (monotype\, martelage\, moulage…) qui permettent de prendre leurs empreintes sur des supports variés. Cette sortie aux allures d’étude exploratoire sera l’occasion d’expérimenter en plein air et de créer ensemble. Elle est entièrement adaptée pour les amoureux de la nature et les créatifs de tous âges. Chaque participant repartira avec ses créations uniques. \nTarif : Adulte 15 euros\, Enfant 12 euros – 2h30 – Grand public. \nAccessible aux personnes à mobilité réduite\, et aux porteurs de handicap. \nInscriptions et renseignements auprès de Marine au 06 08 47 78 50 contact@entoureeparlanature.fr \nLieu de rdv communiqué au moment de l’inscription
URL:https://entoureeparlanature.fr/sortie/balade-botanique-creative-empreintes-feuilles-monotype/
LOCATION:Parc de la Roseraie\, route de Saint Joseph\, Nantes\, 44300\, France
ATTACH;FMTTYPE=image/jpeg:https://entoureeparlanature.fr/wp-content/uploads/2023/10/monotype_balade_creative-e1727213976296.jpg
ORGANIZER;CN="Entour%C3%A9e par la nature":MAILTO:contact@entoureeparlanature.fr
END:VEVENT
BEGIN:VEVENT
DTSTART;TZID=Europe/Helsinki:20231023T090000
DTEND;TZID=Europe/Helsinki:20231023T100000
DTSTAMP:20260421T232107
CREATED:20231006T133605Z
LAST-MODIFIED:20231006T163519Z
UID:1030-1698051600-1698055200@entoureeparlanature.fr
SUMMARY:Raconte-moi une histoire … d’araignée et fabriquons-en une
DESCRIPTION:Marine\, animatrice nature\, vous invite dehors avec votre petit de 24 mois à 4 ans pour vous raconter une histoire et vous faire découvrir la nature et les animaux mal-aimés! \nVous observerez quelques araignées et en bricolerez une très jolie avec des matériaux naturels ! \nTarif : Tandem adulte-enfant : 8 euros \nInscriptions et renseignements auprès de Marine au 06 08 47 78 50 contact@entoureeparlanature.fr
URL:https://entoureeparlanature.fr/sortie/sortie-tout-petits-conte-bricolage-araignee/
LOCATION:Hippodrome de Nantes\, 5 bd des tribunes\, Nantes\, 44300
ATTACH;FMTTYPE=image/jpeg:https://entoureeparlanature.fr/wp-content/uploads/2023/10/1000007683.jpg
ORGANIZER;CN="Entour%C3%A9e par la nature":MAILTO:contact@entoureeparlanature.fr
END:VEVENT
BEGIN:VEVENT
DTSTART;TZID=Europe/Helsinki:20231023T101500
DTEND;TZID=Europe/Helsinki:20231023T121500
DTSTAMP:20260421T232107
CREATED:20231006T133957Z
LAST-MODIFIED:20231006T133957Z
UID:1033-1698056100-1698063300@entoureeparlanature.fr
SUMMARY:Fabriquer son herbier ... et reconnaître les arbres
DESCRIPTION:Au cours de cette sortie\, votre enfant apprendra à reconnaître les arbres grâce à leurs feuilles\, leur écorce et leurs fruits et fabriquera son propre herbier \nPublic : enfants à partir de 4 ans \nTarif : Tandem adulte-enfant : 10 euros \nInscriptions et renseignements auprès de Marine au 06 08 47 78 50 contact@entoureeparlanature.fr
URL:https://entoureeparlanature.fr/sortie/atelier-herbier-reconnaissance-arbres/
LOCATION:Hippodrome de Nantes\, 5 bd des tribunes\, Nantes\, 44300
ATTACH;FMTTYPE=image/jpeg:https://entoureeparlanature.fr/wp-content/uploads/2023/10/20230517_161407-scaled.jpg
ORGANIZER;CN="Entour%C3%A9e par la nature":MAILTO:contact@entoureeparlanature.fr
END:VEVENT
BEGIN:VEVENT
DTSTART;TZID=Europe/Helsinki:20231025T090000
DTEND;TZID=Europe/Helsinki:20231025T100000
DTSTAMP:20260421T232107
CREATED:20231006T134605Z
LAST-MODIFIED:20231006T135730Z
UID:1036-1698224400-1698228000@entoureeparlanature.fr
SUMMARY:Raconte-moi une histoire de hibou … et imitons-le !
DESCRIPTION:Marine\, animatrice nature\, vous invite dehors avec votre petit de 24 mois à 4 ans pour vous raconter une histoire et vous faire découvrir la nature et les animaux mal-aimés ! Apprenez à connaître les hiboux et les chouettes et créez votre joli masque ! \nTarif : Tandem adulte-enfant : 8 euros \nInscriptions et renseignements auprès de Marine au 06 08 47 78 50 contact@entoureeparlanature.fr
URL:https://entoureeparlanature.fr/sortie/sortie-tout-petit-conte-hibou-bricolage/
LOCATION:parc de procé\, 140 bd des anglais\, Nantes\, 44100\, France
ATTACH;FMTTYPE=image/jpeg:https://entoureeparlanature.fr/wp-content/uploads/2023/10/bird-3532337_640.jpg
ORGANIZER;CN="Entour%C3%A9e par la nature":MAILTO:contact@entoureeparlanature.fr
END:VEVENT
BEGIN:VEVENT
DTSTART;TZID=Europe/Helsinki:20231025T101500
DTEND;TZID=Europe/Helsinki:20231025T121500
DTSTAMP:20260421T232107
CREATED:20231006T135513Z
LAST-MODIFIED:20231006T180722Z
UID:1039-1698228900-1698236100@entoureeparlanature.fr
SUMMARY:Mieux connaître la vie des oiseaux des villes
DESCRIPTION:Comment vit un oiseau ? Dort-il dans son nid ? Pourquoi chante-t-il ? Comment arrive-t-il à voler ? Que mange-t-il ? Comment les aider ? Nous répondrons à toutes ces questions au cours de cette sortie nature\, et observerons les oiseaux des villes au Parc de Procé. \nPublic : enfants à partir de 4 ans \nTarif : Tandem adulte-enfant : 10 euros \nInscriptions et renseignements auprès de Marine au 06 08 47 78 50 contact@entoureeparlanature.fr
URL:https://entoureeparlanature.fr/sortie/observons-oiseaux-villes-sortie-nature-enfant/
LOCATION:parc de procé\, 140 bd des anglais\, Nantes\, 44100\, France
ATTACH;FMTTYPE=image/jpeg:https://entoureeparlanature.fr/wp-content/uploads/2023/10/pigeons-3268990_640.jpg
ORGANIZER;CN="Entour%C3%A9e par la nature":MAILTO:contact@entoureeparlanature.fr
END:VEVENT
BEGIN:VEVENT
DTSTART;TZID=Europe/Helsinki:20231027T090000
DTEND;TZID=Europe/Helsinki:20231027T100000
DTSTAMP:20260421T232107
CREATED:20231006T140215Z
LAST-MODIFIED:20231006T140215Z
UID:1044-1698397200-1698400800@entoureeparlanature.fr
SUMMARY:Raconte-moi une histoire de rat… et fabriquons-le !
DESCRIPTION:Marine\, animatrice nature\, vous invite dehors avec votre petit de 24 mois à 4 ans pour vous raconter une histoire et vous faire découvrir la nature et les animaux mal-aimés! Apprenez à connaître les rats et les souris et bricolez-en un avec des matériaux naturels ! \nTarif : Tandem adulte-enfant : 8 euros \nInscriptions et renseignements auprès de Marine au 06 08 47 78 50 contact@entoureeparlanature.fr
URL:https://entoureeparlanature.fr/sortie/sortie-tout-petit-conte-rat-bricolage/
LOCATION:Ile Forget\, Saint-Sébastien-sur-Loire\, France
ATTACH;FMTTYPE=image/jpeg:https://entoureeparlanature.fr/wp-content/uploads/2023/10/rat.jpg
ORGANIZER;CN="Entour%C3%A9e par la nature":MAILTO:contact@entoureeparlanature.fr
END:VEVENT
BEGIN:VEVENT
DTSTART;TZID=Europe/Helsinki:20231027T101500
DTEND;TZID=Europe/Helsinki:20231027T121500
DTSTAMP:20260421T232107
CREATED:20231006T141334Z
LAST-MODIFIED:20231006T141334Z
UID:1047-1698401700-1698408900@entoureeparlanature.fr
SUMMARY:Sur les traces de la faune sauvage
DESCRIPTION:Île Forget\, Saint-Sébastien-sur-Loire \nCherchons ensemble les traces des animaux et les indices qui témoignent du passage et des activités de la faune sauvage sur les îles de Loire. Nous apprendrons aussi à recueillir une copie d’empreinte dans du plâtre ! \nTarif : Tandem parent-adulte\, enfant 10 € – 2h – Jeune public – A partir de 6 ans \nInscriptions et renseignements auprès de Marine au 06 08 47 78 50 contact@entoureeparlanature.fr
URL:https://entoureeparlanature.fr/sortie/sortie-trace-indice-faune-sauvage-animaux/
LOCATION:Ile Forget\, Saint-Sébastien-sur-Loire\, France
ATTACH;FMTTYPE=image/jpeg:https://entoureeparlanature.fr/wp-content/uploads/2023/10/traces_empreintes.jpg
ORGANIZER;CN="Entour%C3%A9e par la nature":MAILTO:contact@entoureeparlanature.fr
END:VEVENT
BEGIN:VEVENT
DTSTART;TZID=Europe/Helsinki:20231027T180000
DTEND;TZID=Europe/Helsinki:20231027T201500
DTSTAMP:20260421T232107
CREATED:20231016T125902Z
LAST-MODIFIED:20231016T125902Z
UID:1086-1698429600-1698437700@entoureeparlanature.fr
SUMMARY:Le Lac des Hérons. Sortie oiseau au crépuscule à Couëron
DESCRIPTION:A Couëron\, au bord des marais\, on peut observer un étrange ballet au coucher du soleil… Accompagnés d’une guide naturaliste\, venez découvrir le Lac de Beaulieu et ses nombreux habitants ailés. \nTarif : Adulte 12 euros\, Enfant 5 euros – 2h15 – Grand public – A partir de 8 ans\nPrêt d’une paire de jumelles par participant \nInscriptions et renseignements auprès de Marine au 06 08 47 78 50 contact@entoureeparlanature.fr\nLieu de rdv communiqué au moment de l’inscription
URL:https://entoureeparlanature.fr/sortie/lac-herons-sortie-oiseau-crepuscule-coueron/
LOCATION:Lac de Beaulieu\, Lac de Beaulieu\, Couëron\, 44220\, France
ATTACH;FMTTYPE=image/jpeg:https://entoureeparlanature.fr/wp-content/uploads/2023/10/grande_aigrette.jpg
ORGANIZER;CN="Entour%C3%A9e par la nature":MAILTO:contact@entoureeparlanature.fr
END:VEVENT
BEGIN:VEVENT
DTSTART;TZID=Europe/Helsinki:20231028T160000
DTEND;TZID=Europe/Helsinki:20231028T180000
DTSTAMP:20260421T232107
CREATED:20230923T081019Z
LAST-MODIFIED:20230923T084624Z
UID:985-1698508800-1698516000@entoureeparlanature.fr
SUMMARY:A la rencontre des araignées - atelier d'observation naturaliste
DESCRIPTION:En tête à tête avec les araignées\, laissez-vous envoûter par leur grâce et leur élégance. Prenez-le temps de les observer\, chassez vos idées reçues et – apprenez-en plus sur leurs habitudes.  Nos voisines les araignées sont aussi passionnantes qu’indispensables et cet atelier d’observation vous aidera (on l’espère) à mieux les aimer. \nAtelier tout public 2h – animé par Marine Chrapecki\, d’Entourée par la nature \nRéservations et renseignements auprès de l’animatrice au 06 08 47 78 50 ou par mail contact@entoureeparlanature.fr \nTarif 12 euros par adulte\, 8 euros par enfant \n(Et si vous participez aussi à la balade nocturne au Séchoir du Liveau le même jour à 19h\, la deuxième sortie est à moitié prix – Vous avez la possibilité de picniquer sur place)
URL:https://entoureeparlanature.fr/sortie/atelier_araignees_sechoir_liveau_observation_naturaliste/
LOCATION:Séchoir du Liveau\, 19\, Le Liveau\, Gorges\, 44190
ATTACH;FMTTYPE=image/jpeg:https://entoureeparlanature.fr/wp-content/uploads/2023/09/spider-436947_640.jpg
ORGANIZER;CN="Entour%C3%A9e par la nature":MAILTO:contact@entoureeparlanature.fr
END:VEVENT
BEGIN:VEVENT
DTSTART;TZID=Europe/Helsinki:20231028T193000
DTEND;TZID=Europe/Helsinki:20231028T213000
DTSTAMP:20260421T232107
CREATED:20230923T081656Z
LAST-MODIFIED:20230923T081656Z
UID:987-1698521400-1698528600@entoureeparlanature.fr
SUMMARY:Balade nature au clair de Lune en bord de Sèvre
DESCRIPTION:La nuit est tombée\, sortons. Dehors\, nous allons faire appel à tous nos sens pour repérer les bestioles qui sortent dans l’obscurité. Nous allons suivre les araignées\, zigzaguer entre les escargots et nous laisser frôler par les chauve-souris… et qui sait\, laisser notre imagination s’emballer et entendre les loups-garous hurler à la lune… \nSortie tout public 2h – enfants à partir de 6 ans –  animé par Marine Chrapecki\, d’Entourée par la nature \nRéservations et renseignements auprès de l’animatrice au 06 08 47 78 50 ou par mail contact@entoureeparlanature.fr \nTarif 12 euros par adulte\, 8 euros par enfant \nLes personnes souhaitant à la fois participer à l’atelier sur les araignées et la sortie nocturne pourrons picniquer sur place au Séchoir du Liveau et bénéficier d’un tarif à moitié prix pour leur deuxième balade
URL:https://entoureeparlanature.fr/sortie/balade-nature-nocturne-pleine-lune-sevre/
LOCATION:Séchoir du Liveau\, 19\, Le Liveau\, Gorges\, 44190
ATTACH;FMTTYPE=image/jpeg:https://entoureeparlanature.fr/wp-content/uploads/2023/08/rando_nocturne_foret-e1691263516844.jpeg
ORGANIZER;CN="Entour%C3%A9e par la nature":MAILTO:contact@entoureeparlanature.fr
END:VEVENT
BEGIN:VEVENT
DTSTART;TZID=Europe/Helsinki:20231029T100000
DTEND;TZID=Europe/Helsinki:20231029T120000
DTSTAMP:20260421T232107
CREATED:20231005T070906Z
LAST-MODIFIED:20231005T071145Z
UID:1007-1698573600-1698580800@entoureeparlanature.fr
SUMMARY:Un marais à découvrir : le Marais de Goulaine
DESCRIPTION:Balade nature autour du Marais de Goulaine\, venez découvrir son fonctionnement et admirer ses oiseaux ! Cette balade itinérante nous permettra de découvrir plusieurs points de vue sur le marais. \nTarif : Adulte 12 euros\, Enfant 5 euros – 2h15 – Grand public – A partir de 8 ans\nPrêt d’une paire de jumelles par participant\nInscriptions et renseignements auprès de Marine au 06 08 47 78 50 contact@entoureeparlanature.fr\nLieu de rdv communiqué au moment de l’inscription
URL:https://entoureeparlanature.fr/sortie/decouverte-marais-goulaine-nature/
LOCATION:Haute-Goulaine\, 136 route du Pont de l'Ouen\, Haute-Goulaine\, 44115
ATTACH;FMTTYPE=image/jpeg:https://entoureeparlanature.fr/wp-content/uploads/2023/10/marais_goulaine.jpg
ORGANIZER;CN="Entour%C3%A9e par la nature":MAILTO:contact@entoureeparlanature.fr
END:VEVENT
BEGIN:VEVENT
DTSTART;TZID=Europe/Helsinki:20231030T090000
DTEND;TZID=Europe/Helsinki:20231030T100000
DTSTAMP:20260421T232107
CREATED:20231006T142207Z
LAST-MODIFIED:20231006T142303Z
UID:1050-1698656400-1698660000@entoureeparlanature.fr
SUMMARY:Raconte-moi une histoire … de chauve-souris et fabriquons-en une
DESCRIPTION:Marine\, animatrice nature\, vous invite dehors avec votre petit de 24 mois à 4 ans pour vous raconter une histoire et vous faire découvrir la nature et les animaux mal-aimés! Apprenez à connaître les chauve-souris et bricolez en une avec des matériaux de récup ! \nTarif : Tandem adulte-enfant : 8 euros \nInscriptions et renseignements auprès de Marine au 06 08 47 78 50 contact@entoureeparlanature.fr
URL:https://entoureeparlanature.fr/sortie/sortie-tout-petit-conte-bricolage-chauve-souris/
LOCATION:Petit Port\, 21 bd du petit port\, Nantes\, 44300\, France
ATTACH;FMTTYPE=image/png:https://entoureeparlanature.fr/wp-content/uploads/2023/10/chauve-souris.png
ORGANIZER;CN="Entour%C3%A9e par la nature":MAILTO:contact@entoureeparlanature.fr
END:VEVENT
BEGIN:VEVENT
DTSTART;TZID=Europe/Helsinki:20231030T101500
DTEND;TZID=Europe/Helsinki:20231030T121500
DTSTAMP:20260421T232107
CREATED:20231006T144225Z
LAST-MODIFIED:20231006T144427Z
UID:1056-1698660900-1698668100@entoureeparlanature.fr
SUMMARY:Les vrais vampires de la nature
DESCRIPTION:Au cours de cet atelier dehors\, nous découvrirons les vrais vampires\, ceux qui sucent le sang : moustiques\, tiques\, sangsues n’auront plus de secrets pour vos enfants. Nous découvrirons aussi la vérité sur les chauve-souris\, qui sont souvent associées aux vampires. \nTarif : Tandem parent-adulte\, enfant 10 € – 2h – Jeune public – A partir de 6 ans \nInscriptions et renseignements auprès de Marine au 06 08 47 78 50 contact@entoureeparlanature.fr
URL:https://entoureeparlanature.fr/sortie/vrais-vampires-nature-animaux/
LOCATION:Petit Port\, 21 bd du petit port\, Nantes\, 44300\, France
ATTACH;FMTTYPE=image/png:https://entoureeparlanature.fr/wp-content/uploads/2023/10/bats-2027875_640.png
ORGANIZER;CN="Entour%C3%A9e par la nature":MAILTO:contact@entoureeparlanature.fr
END:VEVENT
END:VCALENDAR