BEGIN:VCALENDAR
VERSION:2.0
PRODID:-//Entourée par la nature - ECPv6.15.20//NONSGML v1.0//EN
CALSCALE:GREGORIAN
METHOD:PUBLISH
X-ORIGINAL-URL:https://entoureeparlanature.fr
X-WR-CALDESC:Évènements pour Entourée par la nature
REFRESH-INTERVAL;VALUE=DURATION:PT1H
X-Robots-Tag:noindex
X-PUBLISHED-TTL:PT1H
BEGIN:VTIMEZONE
TZID:Europe/Helsinki
BEGIN:DAYLIGHT
TZOFFSETFROM:+0200
TZOFFSETTO:+0300
TZNAME:EEST
DTSTART:20220327T010000
END:DAYLIGHT
BEGIN:STANDARD
TZOFFSETFROM:+0300
TZOFFSETTO:+0200
TZNAME:EET
DTSTART:20221030T010000
END:STANDARD
BEGIN:DAYLIGHT
TZOFFSETFROM:+0200
TZOFFSETTO:+0300
TZNAME:EEST
DTSTART:20230326T010000
END:DAYLIGHT
BEGIN:STANDARD
TZOFFSETFROM:+0300
TZOFFSETTO:+0200
TZNAME:EET
DTSTART:20231029T010000
END:STANDARD
BEGIN:DAYLIGHT
TZOFFSETFROM:+0200
TZOFFSETTO:+0300
TZNAME:EEST
DTSTART:20240331T010000
END:DAYLIGHT
BEGIN:STANDARD
TZOFFSETFROM:+0300
TZOFFSETTO:+0200
TZNAME:EET
DTSTART:20241027T010000
END:STANDARD
END:VTIMEZONE
BEGIN:VEVENT
DTSTART;TZID=Europe/Helsinki:20231202T080000
DTEND;TZID=Europe/Helsinki:20231203T100000
DTSTAMP:20260421T204708
CREATED:20231005T121758Z
LAST-MODIFIED:20231113T115121Z
UID:1014-1701504000-1701597600@entoureeparlanature.fr
SUMMARY:Lever du soleil sur l'Erdre
DESCRIPTION:Se réveiller avant l’aube\, et marcher dans le noir. Voir le soleil se lever sur l’Erdre aux mille reflets en buvant une tisane. Petit à petit\, apprécier la clarté du jour qui se lève et le réveil de la biodiversité que nous observerons avec des jumelles et une longue-vue. Nous prendrons le bateau pour traverser et revenir par l’autre rive. \nTarif : Adulte 12 euros\, Enfant 5 euros – 2h30 – Grand public – A partir de 8 ans \nPrêt d’une paire de jumelles par participant \nInscriptions et renseignements auprès de Marine au 06 08 47 78 50 contact@entoureeparlanature.fr
URL:https://entoureeparlanature.fr/sortie/lever-soleil-erdre-balade-nature/
LOCATION:Pont de la Tortière\, 1 bd des professeurs Sourdille\, Nantes\, Nantes\, 44000
ATTACH;FMTTYPE=image/jpeg:https://entoureeparlanature.fr/wp-content/uploads/2023/08/100000353911.jpg
ORGANIZER;CN="Entour%C3%A9e par la nature":MAILTO:contact@entoureeparlanature.fr
END:VEVENT
BEGIN:VEVENT
DTSTART;TZID=Europe/Helsinki:20231202T140000
DTEND;TZID=Europe/Helsinki:20231202T160000
DTSTAMP:20260421T204708
CREATED:20230923T085347Z
LAST-MODIFIED:20230923T085451Z
UID:992-1701525600-1701532800@entoureeparlanature.fr
SUMMARY:Joyeux Noël les oiseaux ! Atelier sur les nids et construction de nichoirs
DESCRIPTION:Comment reconnaître les nids des oiseaux ? Faut-il les nourrir ? Tailler ses haies ? Où placer ses nichoirs ? Et comment faire pour accueillir la faune chez vous ? \nVenez apprendre à mieux connaître les oiseaux\, et construisez votre nichoir de Noël\, un cadeau pour les oiseaux du ciel. \nAtelier tout-public\, à partir de 6 ans animé par Marine Chrapecki\, d’Entourée par la nature \nRéservations et renseignements auprès de l’animatrice au 06 08 47 78 50 ou par mail contact@entoureeparlanature.fr \nTarif 12 euros par adulte et 8 euros par enfant – Ajouter 8 euros par nichoir construit en matériaux de récup (vous pouvez le construire à plusieurs)
URL:https://entoureeparlanature.fr/sortie/joyeux-noel-oiseaux-atelier-nids-construction-nichoir/
LOCATION:Séchoir du Liveau\, 19\, Le Liveau\, Gorges\, 44190
ATTACH;FMTTYPE=image/jpeg:https://entoureeparlanature.fr/wp-content/uploads/2023/09/common-redstart-7259277_640.jpg
ORGANIZER;CN="Entour%C3%A9e par la nature":MAILTO:contact@entoureeparlanature.fr
END:VEVENT
BEGIN:VEVENT
DTSTART;TZID=Europe/Helsinki:20231202T183000
DTEND;TZID=Europe/Helsinki:20231202T183000
DTSTAMP:20260421T204708
CREATED:20231105T155639Z
LAST-MODIFIED:20231105T193409Z
UID:1205-1701541800-1701541800@entoureeparlanature.fr
SUMMARY:Balade nocturne des bois à la rivière : ambiance d’hiver
DESCRIPTION:La nuit est tombée\, sortons. Au dehors\, nous allons faire appel à tous nos sens pour repérer les bestioles qui sortent dans l’obscurité. Nous allons suivre les araignées\, zigzaguer entre les escargots et explorer le boisement et les bords de Sèvre.\n \nSortie tout public 2h – enfants à partir de 6 ans –  animé par Marine Chrapecki\, d’Entourée par la nature\nTarif : Adulte 12e\, Enfant 6e\nRéservations et renseignements auprès de l’animatrice au 06 08 47 78 50 ou par mail contact@entoureeparlanature.fr
URL:https://entoureeparlanature.fr/sortie/balade-nocturne-bois-riviere-sevre-nantaise-gorges/
LOCATION:Séchoir du Liveau\, 19\, Le Liveau\, Gorges\, 44190
ATTACH;FMTTYPE=image/jpeg:https://entoureeparlanature.fr/wp-content/uploads/2023/08/rando_nocturne_foret-e1691263516844.jpeg
ORGANIZER;CN="Entour%C3%A9e par la nature":MAILTO:contact@entoureeparlanature.fr
END:VEVENT
BEGIN:VEVENT
DTSTART;TZID=Europe/Helsinki:20231203T143000
DTEND;TZID=Europe/Helsinki:20231203T163000
DTSTAMP:20260421T204708
CREATED:20231105T161904Z
LAST-MODIFIED:20231105T162050Z
UID:1207-1701613800-1701621000@entoureeparlanature.fr
SUMMARY:Atelier de fabrication de bijoux dans et avec la nature
DESCRIPTION:Atelier dehors\, nous cueillerons des herbes\, ramasserons des feuilles et des graines…  et créerons des bracelets\, colliers ou des boucles d’oreille.\nTous les outils seront fournis et chacun repartira avec ses créations.\nSi il pleut\, l’atelier aura lieu à l’intérieur. \nTarif : Adulte 15 euros\, Enfant 12 euros – 2h30 – Grand public à partir de 8 ans.\nInscriptions et renseignements auprès de Marine au 06 08 47 78 50 contact@entoureeparlanature.fr
URL:https://entoureeparlanature.fr/sortie/sortie-atelier-fabrication-bijoux-nature-nantes/
LOCATION:Pont de la jonelière\, Route de la Jonelière\, La Chapelle-sur-Erdre\, 44240\, France
ATTACH;FMTTYPE=image/png:https://entoureeparlanature.fr/wp-content/uploads/2023/11/herbes.png
ORGANIZER;CN="Entour%C3%A9e par la nature":MAILTO:contact@entoureeparlanature.fr
END:VEVENT
BEGIN:VEVENT
DTSTART;TZID=Europe/Helsinki:20231209T160000
DTEND;TZID=Europe/Helsinki:20231209T180000
DTSTAMP:20260421T204708
CREATED:20231105T150401Z
LAST-MODIFIED:20231108T150739Z
UID:1193-1702137600-1702144800@entoureeparlanature.fr
SUMMARY:Le Lac des Hérons – Ballet ornithologique au Lac de Beaulieu
DESCRIPTION:A Couëron\, au bord des marais\, on peut observer un étrange ballet au coucher du soleil… Accompagnés d’une guide naturaliste\, venez découvrir le Lac de Beaulieu et ses nombreux habitants ailés.\nTarif : Adulte 12 euros\, Enfant 6 euros – 2h15 – Grand public – A partir de 8 ans\nPrêt d’une paire de jumelles par participant\nInscriptions et renseignements auprès de Marine au 06 08 47 78 50 contact@entoureeparlanature.fr\nLieu de rdv communiqué au moment de l’inscription
URL:https://entoureeparlanature.fr/sortie/sortie_nature_oiseaux_ornithologie_coueron_crepuscule/
LOCATION:Lac de Beaulieu\, Lac de Beaulieu\, Couëron\, 44220\, France
ATTACH;FMTTYPE=image/jpeg:https://entoureeparlanature.fr/wp-content/uploads/2023/10/grande_aigrette-1-e1761467795521.jpg
ORGANIZER;CN="Entour%C3%A9e par la nature":MAILTO:contact@entoureeparlanature.fr
END:VEVENT
BEGIN:VEVENT
DTSTART;TZID=Europe/Helsinki:20231210T143000
DTEND;TZID=Europe/Helsinki:20231210T170000
DTSTAMP:20260421T204708
CREATED:20231105T162905Z
LAST-MODIFIED:20231105T192151Z
UID:1212-1702218600-1702227600@entoureeparlanature.fr
SUMMARY:Balade créative : empreintes végétales et cartes de voeux
DESCRIPTION:Au cours de cette balade botanique\, les feuilles des arbres seront à l’honneur. Nous créerons ensemble grâce à différentes techniques d’art plastiques dont le monotype\, et la prise d’empreintes de feuilles. Chacun repartira avec des décorations de Noël et des cartes de vœux.\nTarif : Adulte 15 euros\, Enfant 12 euros – 2h30 – Grand public.\nInscriptions et renseignements auprès de Marine au 06 08 47 78 50 contact@entoureeparlanature.fr
URL:https://entoureeparlanature.fr/sortie/balade-botanique-creative-empreintes-feuilles/
LOCATION:Saint-Herblain\, 44800\, France
ATTACH;FMTTYPE=image/jpeg:https://entoureeparlanature.fr/wp-content/uploads/2023/10/monotype_balade_creative-e1727213976296.jpg
ORGANIZER;CN="Entour%C3%A9e par la nature":MAILTO:contact@entoureeparlanature.fr
END:VEVENT
BEGIN:VEVENT
DTSTART;TZID=Europe/Helsinki:20231217T093000
DTEND;TZID=Europe/Helsinki:20231217T120000
DTSTAMP:20260421T204708
CREATED:20231207T121933Z
LAST-MODIFIED:20231207T121933Z
UID:1259-1702805400-1702814400@entoureeparlanature.fr
SUMMARY:A la découverte du marais de Goulaine en hiver
DESCRIPTION:Venez découvrir le magnifique marais de Goulaine inondé\, son fonctionnement et ses oiseaux ! Vous serez guidés vers plusieurs points de vue tout autour du marais\, et découvrirez ses habitats. \nInformations pratiques : \nTarif : Adulte 12 euros\, Enfant 6 euros – 2h15 – Grand public – A partir de 8 ans – distance de marche : 2\,5 km – il sera nécessaire de reprendre une voiture pour accéder au second site\nPrêt d’une paire de jumelles par participant\n\nInscriptions et renseignements auprès de Marine au 06 08 47 78 50 contact@entoureeparlanature.fr
URL:https://entoureeparlanature.fr/sortie/a-la-decouverte-du-marais-de-goulaine-en-hiver/
LOCATION:Haute-Goulaine\, 136 route du Pont de l'Ouen\, Haute-Goulaine\, 44115
ATTACH;FMTTYPE=image/png:https://entoureeparlanature.fr/wp-content/uploads/2023/12/marais-goulaine-resized-e1701951500798.png
ORGANIZER;CN="Entour%C3%A9e par la nature":MAILTO:contact@entoureeparlanature.fr
END:VEVENT
BEGIN:VEVENT
DTSTART;TZID=Europe/Helsinki:20231217T143000
DTEND;TZID=Europe/Helsinki:20231217T143000
DTSTAMP:20260421T204708
CREATED:20231207T134505Z
LAST-MODIFIED:20231207T135705Z
UID:1263-1702823400-1702823400@entoureeparlanature.fr
SUMMARY:Balade surprise dans les bois
DESCRIPTION:Venez vivre une belle aventure collective avec tous vos sens en éveil. Rencontrez la nature autrement au cours d’une promenade entrecoupée de mini-jeux à faire seul ou en binôme. Faites confiance à vos sens pour vous guider vers l’inconnu ! Venez en famille\, entre amis ou seul. \nInformations pratiques : \nTarif : Adulte 12 euros\, Enfant 6 euros – 2h15 – Grand public – A partir de 5 ans – distance de marche 2\,5 km \nInscriptions et renseignements auprès de Marine au 06 08 47 78 50 contact@entoureeparlanature.fr
URL:https://entoureeparlanature.fr/sortie/balade-surprise-dans-les-bois/
LOCATION:Port Barbe\, La\, Le Port Barbe\, La Chapelle-sur-Erdre\, France
ATTACH;FMTTYPE=image/png:https://entoureeparlanature.fr/wp-content/uploads/2023/12/baladesensorielle-e1701956636361.png
ORGANIZER;CN="Entour%C3%A9e par la nature":MAILTO:contact@entoureeparlanature.fr
END:VEVENT
BEGIN:VEVENT
DTSTART;TZID=Europe/Helsinki:20231220T100000
DTEND;TZID=Europe/Helsinki:20231220T110000
DTSTAMP:20260421T204708
CREATED:20231207T140116Z
LAST-MODIFIED:20231207T140116Z
UID:1266-1703066400-1703070000@entoureeparlanature.fr
SUMMARY:Sortie parent-enfant : Les toutes-petites araignées de Noël
DESCRIPTION:Marine\, animatrice nature\, vous invite dehors avec votre petit de 24 mois à 5 ans pour vous raconter une jolie histoire sur les araignées de Noël. Vous observerez quelques araignées et en bricolerez une à rapporter chez vous comme décoration de Noël.\n \nInformations pratiques : \nTarif : Tandem adulte-enfant : 8 euros – 1h – Tout-petits à partir de 24 mois  \nInscriptions et renseignements auprès de Marine au 06 08 47 78 50 contact@entoureeparlanature.fr
URL:https://entoureeparlanature.fr/sortie/sortie-parent-enfant-les-toutes-petites-araignees-de-noel/
LOCATION:Hippodrome de Nantes\, 5 bd des tribunes\, Nantes\, 44300
ATTACH;FMTTYPE=image/png:https://entoureeparlanature.fr/wp-content/uploads/2023/12/toilearaignee.png
ORGANIZER;CN="Entour%C3%A9e par la nature":MAILTO:contact@entoureeparlanature.fr
END:VEVENT
END:VCALENDAR