BEGIN:VCALENDAR
VERSION:2.0
PRODID:-//Entourée par la nature - ECPv6.15.20//NONSGML v1.0//EN
CALSCALE:GREGORIAN
METHOD:PUBLISH
X-WR-CALNAME:Entourée par la nature
X-ORIGINAL-URL:https://entoureeparlanature.fr
X-WR-CALDESC:Évènements pour Entourée par la nature
REFRESH-INTERVAL;VALUE=DURATION:PT1H
X-Robots-Tag:noindex
X-PUBLISHED-TTL:PT1H
BEGIN:VTIMEZONE
TZID:Europe/Helsinki
BEGIN:DAYLIGHT
TZOFFSETFROM:+0200
TZOFFSETTO:+0300
TZNAME:EEST
DTSTART:20230326T010000
END:DAYLIGHT
BEGIN:STANDARD
TZOFFSETFROM:+0300
TZOFFSETTO:+0200
TZNAME:EET
DTSTART:20231029T010000
END:STANDARD
BEGIN:DAYLIGHT
TZOFFSETFROM:+0200
TZOFFSETTO:+0300
TZNAME:EEST
DTSTART:20240331T010000
END:DAYLIGHT
BEGIN:STANDARD
TZOFFSETFROM:+0300
TZOFFSETTO:+0200
TZNAME:EET
DTSTART:20241027T010000
END:STANDARD
BEGIN:DAYLIGHT
TZOFFSETFROM:+0200
TZOFFSETTO:+0300
TZNAME:EEST
DTSTART:20250330T010000
END:DAYLIGHT
BEGIN:STANDARD
TZOFFSETFROM:+0300
TZOFFSETTO:+0200
TZNAME:EET
DTSTART:20251026T010000
END:STANDARD
END:VTIMEZONE
BEGIN:VEVENT
DTSTART;TZID=Europe/Helsinki:20240107T090000
DTEND;TZID=Europe/Helsinki:20240107T111500
DTSTAMP:20260421T193119
CREATED:20231207T141809Z
LAST-MODIFIED:20231207T141809Z
UID:1270-1704618000-1704626100@entoureeparlanature.fr
SUMMARY:Sortie nature : un matin sur la plaine de Mazerolles
DESCRIPTION:Les marais de l’Erdre abritent de bien nombreux oiseaux en période d’hivernage. Découvrez le fascinant phénomène de la migration avec une guide naturaliste passionnée\, et venez voir à quoi ressemble l’Erdre en amont de Nantes.\n \nInformations pratiques : \nTarif : Adulte 12 euros\, Enfant 6 euros – 2h15 – Grand public – A partir de 8 ans – distance de marche 2\,5km \nPrêt d’une paire de jumelles par participant \nInscriptions et renseignements auprès de Marine au 06 08 47 78 50 contact@entoureeparlanature.fr
URL:https://entoureeparlanature.fr/sortie/sortie-nature-un-matin-sur-la-plaine-de-mazerolles/
LOCATION:Sucé-sur-Erdre\, Sucé-sur-Erdre\, 44240\, France
ATTACH;FMTTYPE=image/jpeg:https://entoureeparlanature.fr/wp-content/uploads/2023/05/20230324_093209-scaled-e1685032007735.jpg
ORGANIZER;CN="Entour%C3%A9e par la nature":MAILTO:contact@entoureeparlanature.fr
END:VEVENT
BEGIN:VEVENT
DTSTART;TZID=Europe/Helsinki:20240113T080000
DTEND;TZID=Europe/Helsinki:20240113T103000
DTSTAMP:20260421T193119
CREATED:20231207T143038Z
LAST-MODIFIED:20231207T143038Z
UID:1272-1705132800-1705141800@entoureeparlanature.fr
SUMMARY:Sortie nature : Lever du soleil sur l’Erdre
DESCRIPTION:Partir avant l’aube\, et marcher. Petit à petit\, apprécier la clarté du jour qui se lève et être témoin du réveil de la nature en buvant une tisane. Observer le passage des oiseaux avec des jumelles et une longue-vue\, et se laisser surprendre par la beauté du paysage. Nous prendrons le bateau pour traverser et revenir par l’autre rive. \nInformations pratiques : \nTarif : Adulte 12 euros\, Enfant 6 euros – 2h30 – Grand public – A partir de 8 ans – distance de marche 3 km – Chemins accessibles en fauteuil\, et le navibus peut accueillir un fauteuil roulant par traversée \nPrêt d’une paire de jumelles par participant \nInscriptions et renseignements auprès de Marine au 06 08 47 78 50 contact@entoureeparlanature.fr
URL:https://entoureeparlanature.fr/sortie/sortie-nature-lever-du-soleil-sur-lerdre/
LOCATION:Pont de la Tortière\, 1 bd des professeurs Sourdille\, Nantes\, Nantes\, 44000
ATTACH;FMTTYPE=image/jpeg:https://entoureeparlanature.fr/wp-content/uploads/2023/12/promenade_bors_erdre_aube_lever_soleil_entouree_par_la_nature.jpg
ORGANIZER;CN="Entour%C3%A9e par la nature":MAILTO:contact@entoureeparlanature.fr
END:VEVENT
BEGIN:VEVENT
DTSTART;TZID=Europe/Helsinki:20240114T090000
DTEND;TZID=Europe/Helsinki:20240114T103000
DTSTAMP:20260421T193119
CREATED:20231207T185326Z
LAST-MODIFIED:20231207T190421Z
UID:1278-1705222800-1705228200@entoureeparlanature.fr
SUMMARY:Reconnaître et recenser les oiseaux des jardins
DESCRIPTION:Les 27 et 28 janvier prochains\, le Grand Comptage des Oiseaux des jardins a lieu. C’est une opération nationale portée par la LPO et le Muséum National d’Histoire Naturel pour recenser les oiseaux. Ce programme de sciences participatives est ouvert à tous. Si vous voulez y participer\, mais que vous voulez vous entraîner sur le terrain avant\, cette sortie est faite pour vous : vous apprendrez à utiliser des jumelles et à reconnaître les oiseaux communs\, mâles ou femelles de manière ludique. Le protocole n’aura plus de secrets pour vous. \nInformations pratiques :\nTarif réduit spécial Grand Comptage des Oiseaux : 6 euros par adulte – 4 euros par enfant – durée1h30 – Grand public – A partir de 8 ans – Accessible aux personnes à mobilité réduite\nPrêt de paires de jumelles pour la sortie\, sur demande\nInscriptions et renseignements auprès de Marine au 06 08 47 78 50 contact@entoureeparlanature.fr
URL:https://entoureeparlanature.fr/sortie/reconnaitre-compter-oiseaux-jardins/
LOCATION:Jardin des plantes\, rue Ecorchard\, Nantes\, 44000\, France
ATTACH;FMTTYPE=image/jpeg:https://entoureeparlanature.fr/wp-content/uploads/2023/03/rougegorge.jpg
ORGANIZER;CN="Entour%C3%A9e par la nature":MAILTO:contact@entoureeparlanature.fr
END:VEVENT
BEGIN:VEVENT
DTSTART;TZID=Europe/Helsinki:20240121T090000
DTEND;TZID=Europe/Helsinki:20240121T111500
DTSTAMP:20260421T193119
CREATED:20231207T195419Z
LAST-MODIFIED:20231207T195530Z
UID:1284-1705827600-1705835700@entoureeparlanature.fr
SUMMARY:Carquefou : Entre le bocage et le marais à Carquefou
DESCRIPTION:Venez découvrir le bocage et une zone humide à Carquefou\, en longeant le ruisseau de l’Etang Hervé ! Equipé de jumelles et accompagnés d’une guide\, venez explorez cet espace naturel restauré. \nInformations pratiques :  \nTarif : Adulte 12 euros\, Enfant 6 euros – 2h15 – Grand public – A partir de 8 ans \nPrêt d’une paire de jumelles par participant \nInscriptions et renseignements auprès de Marine au 06 08 47 78 50 contact@entoureeparlanature.fr
URL:https://entoureeparlanature.fr/sortie/carquefou-entre-bocage-marais-carquefou/
LOCATION:Carquefou\, Carquefou\, 44470\, France
ATTACH;FMTTYPE=image/jpeg:https://entoureeparlanature.fr/wp-content/uploads/2023/12/ruisseau-etang-herve.jpg
ORGANIZER;CN="Entour%C3%A9e par la nature":MAILTO:contact@entoureeparlanature.fr
END:VEVENT
BEGIN:VEVENT
DTSTART;TZID=Europe/Helsinki:20240128T093000
DTEND;TZID=Europe/Helsinki:20240128T113000
DTSTAMP:20260421T193119
CREATED:20231207T201351Z
LAST-MODIFIED:20231207T202953Z
UID:1288-1706434200-1706441400@entoureeparlanature.fr
SUMMARY:Qui l’eut cru ? Une histoire d’estuaire\, de Loire et d’îles
DESCRIPTION:L’île de Nantes a résisté à bien des crues et des marées\, et abrite de nombreux habitants… Mais comment s’est-elle créée\, transformée et que deviendra-t-elle ? L’étude du paysage au Parc du CRAPA nous permettra d’essayer de comprendre son histoire et d’évoquer le futur de nos chères îles.\n \nInformations pratiques : \nTarif : Adulte 12 euros\, Enfant 6 euros – 2h – Grand public – A partir de 10 ans \nPrêt d’une paire de jumelles par participant \nInscriptions et renseignements auprès de Marine au 06 08 47 78 50 contact@entoureeparlanature.fr
URL:https://entoureeparlanature.fr/sortie/sortie-nature-qui-eut-cru-ile-loire-estuaire/
LOCATION:Parc CRAPA\, Rue du Pré Salé\, Nantes\, 44200
ATTACH;FMTTYPE=image/jpeg:https://entoureeparlanature.fr/wp-content/uploads/2023/10/ile-nantes-montee-eau.jpg
ORGANIZER;CN="Entour%C3%A9e par la nature":MAILTO:contact@entoureeparlanature.fr
END:VEVENT
BEGIN:VEVENT
DTSTART;TZID=Europe/Helsinki:20240131T150000
DTEND;TZID=Europe/Helsinki:20240131T170000
DTSTAMP:20260421T193119
CREATED:20231207T120932Z
LAST-MODIFIED:20231215T135639Z
UID:1257-1706713200-1706720400@entoureeparlanature.fr
SUMMARY:Sortie enfants – Qui est passé par là ? Reconnaître les traces et empreintes des animaux
DESCRIPTION:Cherchons ensemble les traces des animaux et les indices qui témoignent du passage et des activités de la faune sauvage sur les îles de Loire. Nous apprendrons aussi à recueillir une copie d’empreinte dans du plâtre ! \nInformations pratiques : \nTarif : Tandem parent-adulte\, enfant 10 € – 2h – Jeune public – A partir de 6 ans – distance de marche : 2\,5 km \nInscriptions et renseignements auprès de Marine au 06 08 47 78 50 contact@entoureeparlanature.fr
URL:https://entoureeparlanature.fr/sortie/sortie-enfants-qui-est-passe-par-la-reconnaitre-les-traces-et-empreintes-des-animaux/
LOCATION:Parc CRAPA\, Rue du Pré Salé\, Nantes\, 44200
ATTACH;FMTTYPE=image/jpeg:https://entoureeparlanature.fr/wp-content/uploads/2023/11/empreinte-trace-animaux-platre.jpg
ORGANIZER;CN="Entour%C3%A9e par la nature":MAILTO:contact@entoureeparlanature.fr
END:VEVENT
END:VCALENDAR