BEGIN:VCALENDAR
VERSION:2.0
PRODID:-//Entourée par la nature - ECPv6.15.20//NONSGML v1.0//EN
CALSCALE:GREGORIAN
METHOD:PUBLISH
X-WR-CALNAME:Entourée par la nature
X-ORIGINAL-URL:https://entoureeparlanature.fr
X-WR-CALDESC:Évènements pour Entourée par la nature
REFRESH-INTERVAL;VALUE=DURATION:PT1H
X-Robots-Tag:noindex
X-PUBLISHED-TTL:PT1H
BEGIN:VTIMEZONE
TZID:Europe/Helsinki
BEGIN:DAYLIGHT
TZOFFSETFROM:+0200
TZOFFSETTO:+0300
TZNAME:EEST
DTSTART:20230326T010000
END:DAYLIGHT
BEGIN:STANDARD
TZOFFSETFROM:+0300
TZOFFSETTO:+0200
TZNAME:EET
DTSTART:20231029T010000
END:STANDARD
BEGIN:DAYLIGHT
TZOFFSETFROM:+0200
TZOFFSETTO:+0300
TZNAME:EEST
DTSTART:20240331T010000
END:DAYLIGHT
BEGIN:STANDARD
TZOFFSETFROM:+0300
TZOFFSETTO:+0200
TZNAME:EET
DTSTART:20241027T010000
END:STANDARD
BEGIN:DAYLIGHT
TZOFFSETFROM:+0200
TZOFFSETTO:+0300
TZNAME:EEST
DTSTART:20250330T010000
END:DAYLIGHT
BEGIN:STANDARD
TZOFFSETFROM:+0300
TZOFFSETTO:+0200
TZNAME:EET
DTSTART:20251026T010000
END:STANDARD
END:VTIMEZONE
BEGIN:VEVENT
DTSTART;TZID=Europe/Helsinki:20240210T183000
DTEND;TZID=Europe/Helsinki:20240211T103000
DTSTAMP:20260421T180536
CREATED:20231207T215904Z
LAST-MODIFIED:20231208T174923Z
UID:1292-1707589800-1707647400@entoureeparlanature.fr
SUMMARY:Les chants des oiseaux pour les super-débutants - niveau 1
DESCRIPTION:Au tout début de l’année\, c’est le moment idéal pour commencer à s’initier au chant des oiseaux ! Et oui\, peu d’espèces différentes chantent\, et l’absence de feuilles dans les arbres permet d’observer facilement les oiseaux\, ce qui facilite la mémorisation.  \nEn combinant une séance de théorie le samedi soir (10/02)\, et une sortie sur le terrain le dimanche matin (11/02)\, vous installerez vos premières bases en acoustique. Vous apprendrez à reconnaître quelques chants et cris d’oiseaux communs et des milieux forestiers à Port-Barbe. \nLieu et heure :  \nInscription pour participer aux deux temps (théorie en salle + sortie) : Tarif 35 euros.  \n– samedi 10/02/24 18h30-20h30 : dans une salle du centre-ville de Nantes\n \n– dimanche 11/02/24 8h-10h30 : sortie à Port-Barbe\, La Chapelle-sur-Erdre \nPrécisions techniques : \nPrêt d’une paire de jumelles par participant. \nCovoiturage possible depuis Nantes Nord. \nSuite à la sortie\, vous recevez une liste récapitulant les espèces rencontrées et les moyens mnémotechniques pour reconnaître leur chants. \nInscriptions et renseignements : \nPar téléphone ou mail auprès de Marine Chrapecki au 06 08 47 78 50 contact@entoureeparlanature.fr.  \nNombre maximal de personnes par session : 8. Session maintenue à partir de 5 inscrits. Date limite d’inscription 8/02/23.
URL:https://entoureeparlanature.fr/sortie/chants-oiseaux-super-debutants-niveau1/
LOCATION:Nantes
ATTACH;FMTTYPE=image/jpeg:https://entoureeparlanature.fr/wp-content/uploads/2023/03/sitelle-e1680019180514.jpg
ORGANIZER;CN="Entour%C3%A9e par la nature":MAILTO:contact@entoureeparlanature.fr
END:VEVENT
BEGIN:VEVENT
DTSTART;TZID=Europe/Helsinki:20240227T103000
DTEND;TZID=Europe/Helsinki:20240227T120000
DTSTAMP:20260421T180536
CREATED:20240218T150917Z
LAST-MODIFIED:20240218T151134Z
UID:1325-1709029800-1709035200@entoureeparlanature.fr
SUMMARY:Chanter comme un oiseau
DESCRIPTION:Les oiseaux chantent\, ils sifflent\, ils jouent de la musique sur les troncs d’arbres. Pourquoi ? Ecoutons-les\, et imitons-les avec des instruments  un peu spéciaux. Entre écoute\, sifflements et percussions\, cette sortie nature ravira vos enfants ! \nTarif : Enfant accompagné 10 € – 1h30 – Jeune public – A partir de 5 ans\nInscriptions et renseignements auprès de Marine au 06 08 47 78 50 contact@entoureeparlanature.fr
URL:https://entoureeparlanature.fr/sortie/chanter-comme-un-oiseau/
LOCATION:Petit Port\, 21 bd du petit port\, Nantes\, 44300\, France
ATTACH;FMTTYPE=image/jpeg:https://entoureeparlanature.fr/wp-content/uploads/2023/03/pinson111.jpg
ORGANIZER;CN="Entour%C3%A9e par la nature":MAILTO:contact@entoureeparlanature.fr
END:VEVENT
BEGIN:VEVENT
DTSTART;TZID=Europe/Helsinki:20240228T150000
DTEND;TZID=Europe/Helsinki:20240228T163000
DTSTAMP:20260421T180536
CREATED:20240218T151428Z
LAST-MODIFIED:20240219T190901Z
UID:1327-1709132400-1709137800@entoureeparlanature.fr
SUMMARY:Sur la piste des animaux sauvages de Nantes
DESCRIPTION:Cherchons ensemble les traces des animaux et les indices qui témoignent du passage et des activités de la faune sauvage sur les îles de Loire. Nous apprendrons aussi à recueillir une copie d’empreinte dans du plâtre !\nTarif : Tandem parent-adulte\, enfant 10 € – 2h – Jeune public – A partir de 5 ans\nInscriptions et renseignements auprès de Marine au 06 08 47 78 50 contact@entoureeparlanature.fr
URL:https://entoureeparlanature.fr/sortie/piste-animaux-sauvages-nantes/
LOCATION:Parc CRAPA\, Rue du Pré Salé\, Nantes\, 44200
ATTACH;FMTTYPE=image/jpeg:https://entoureeparlanature.fr/wp-content/uploads/2023/11/empreinte-trace-animaux-platre.jpg
ORGANIZER;CN="Entour%C3%A9e par la nature":MAILTO:contact@entoureeparlanature.fr
END:VEVENT
END:VCALENDAR