BEGIN:VCALENDAR
VERSION:2.0
PRODID:-//Entourée par la nature - ECPv6.15.20//NONSGML v1.0//EN
CALSCALE:GREGORIAN
METHOD:PUBLISH
X-ORIGINAL-URL:https://entoureeparlanature.fr
X-WR-CALDESC:Évènements pour Entourée par la nature
REFRESH-INTERVAL;VALUE=DURATION:PT1H
X-Robots-Tag:noindex
X-PUBLISHED-TTL:PT1H
BEGIN:VTIMEZONE
TZID:Europe/Helsinki
BEGIN:DAYLIGHT
TZOFFSETFROM:+0200
TZOFFSETTO:+0300
TZNAME:EEST
DTSTART:20230326T010000
END:DAYLIGHT
BEGIN:STANDARD
TZOFFSETFROM:+0300
TZOFFSETTO:+0200
TZNAME:EET
DTSTART:20231029T010000
END:STANDARD
BEGIN:DAYLIGHT
TZOFFSETFROM:+0200
TZOFFSETTO:+0300
TZNAME:EEST
DTSTART:20240331T010000
END:DAYLIGHT
BEGIN:STANDARD
TZOFFSETFROM:+0300
TZOFFSETTO:+0200
TZNAME:EET
DTSTART:20241027T010000
END:STANDARD
BEGIN:DAYLIGHT
TZOFFSETFROM:+0200
TZOFFSETTO:+0300
TZNAME:EEST
DTSTART:20250330T010000
END:DAYLIGHT
BEGIN:STANDARD
TZOFFSETFROM:+0300
TZOFFSETTO:+0200
TZNAME:EET
DTSTART:20251026T010000
END:STANDARD
END:VTIMEZONE
BEGIN:VEVENT
DTSTART;TZID=Europe/Helsinki:20240302T100000
DTEND;TZID=Europe/Helsinki:20240302T121500
DTSTAMP:20260421T163013
CREATED:20240219T191631Z
LAST-MODIFIED:20240221T174808Z
UID:1329-1709373600-1709381700@entoureeparlanature.fr
SUMMARY:La biodiversité des bords de Loire - sortie sur l'île Clémentine
DESCRIPTION:Vous connaissez l’île Clémentine ? En bord de Loire\, les prairies humides ont bien des secrets à vous dévoiler… Entre pontes de grenouilles\, plantes de milieux humides et oiseaux\, rencontrez la biodiversité. \narif : Adulte 12 euros\, Enfant 8 euros – 2h30 – Grand public – A partir de 8 ans – distance de marche : 2\,5 km –\nPrêt d’une paire de jumelles par participant \nInscriptions et renseignements auprès de Marine au 06 08 47 78 50 contact@entoureeparlanature.fr \nPlus de balades sur le site https ://entoureeparlanature.fr/sorties.
URL:https://entoureeparlanature.fr/sortie/biodiversite-bords-loire-ile-clementine/
LOCATION:Sainte-Luce-sur-Loire\, Sainte-Luce-sur-Loire\, 44980
ATTACH;FMTTYPE=image/jpeg:https://entoureeparlanature.fr/wp-content/uploads/2023/11/marais-erdre-port-boyer-e1699188583773.jpg
ORGANIZER;CN="Entour%C3%A9e par la nature":MAILTO:contact@entoureeparlanature.fr
END:VEVENT
BEGIN:VEVENT
DTSTART;TZID=Europe/Helsinki:20240302T150000
DTEND;TZID=Europe/Helsinki:20240302T170000
DTSTAMP:20260421T163013
CREATED:20240218T091932Z
LAST-MODIFIED:20240221T165857Z
UID:1318-1709391600-1709398800@entoureeparlanature.fr
SUMMARY:Sortie nature et atelier créatif végétal au Parc de la Chézine
DESCRIPTION:Sortir dans la nature\, observer\, cueillir et se laisser émerveiller par la beauté des petites feuilles qui sortent au printemps\, par les bourgeons et les premières fleurs ! Nous créerons ensemble grâce à différentes techniques d’art plastiques dont le monotype\, et la prise d’empreintes de feuilles et de textures. Chacun repartira avec des décorations pour chez soi\, et des impressions uniques.\nTarif : Adulte 15 euros\, Enfant 12 euros – 2h30 – Grand public\, adapté aussi pour les enfants\, à partir de 5 ans.\nInscriptions et renseignements auprès de Marine au 06 08 47 78 50 contact@entoureeparlanature.fr
URL:https://entoureeparlanature.fr/sortie/sortie-nature-et-atelier-creatif-vegetal-au-parc-de-la-chezine/
LOCATION:Parc de la Chézine\, 165 bd du massacre\, Saint-Herblain
ATTACH;FMTTYPE=image/jpeg:https://entoureeparlanature.fr/wp-content/uploads/2023/10/monotype_balade_creative-e1727213976296.jpg
ORGANIZER;CN="Entour%C3%A9e par la nature":MAILTO:contact@entoureeparlanature.fr
END:VEVENT
BEGIN:VEVENT
DTSTART;TZID=Europe/Helsinki:20240303T093000
DTEND;TZID=Europe/Helsinki:20240303T120000
DTSTAMP:20260421T163013
CREATED:20240218T100442Z
LAST-MODIFIED:20240218T134604Z
UID:1321-1709458200-1709467200@entoureeparlanature.fr
SUMMARY:Sortie au marais de Goulaine et observation des oiseaux des zones humides
DESCRIPTION:Promenez-vous au bord du marais de Goulaine avec une guide naturaliste et découvrez le fonctionnement et surtout les oiseaux des zones humides ! A seulement 20 minutes de Nantes\, ce marais vaut le coup d’oeil et abrite des espèces typiques des zones humides à observer et écouter chanter. Vous passerez par plusieurs points de vue tout autour du marais pour visiter des habitats bien particuliers. \nInformations pratiques : \nTarif : Adulte 12 euros\, Enfant 8 euros – 2h30 – Grand public – A partir de 8 ans – distance de marche : 3 km – il sera nécessaire de reprendre une voiture pour accéder au second site\nPrêt d’une paire de jumelles par participant
URL:https://entoureeparlanature.fr/sortie/sortie-nature-marais-goulaine-oiseaux-eau/
LOCATION:Pont de l’Ouen\, 52 Pont de l'Ouen\, Le Loroux Bottereaux\, 44430\, France
ATTACH;FMTTYPE=image/png:https://entoureeparlanature.fr/wp-content/uploads/2023/12/marais-goulaine-resized-e1701951500798.png
END:VEVENT
BEGIN:VEVENT
DTSTART;TZID=Europe/Helsinki:20240305T103000
DTEND;TZID=Europe/Helsinki:20240305T120000
DTSTAMP:20260421T163013
CREATED:20240219T213704Z
LAST-MODIFIED:20240219T213704Z
UID:1333-1709634600-1709640000@entoureeparlanature.fr
SUMMARY:A la recherche des invertébrés des zones humides\, Petit-Port
DESCRIPTION:Participez à une pêche aux invertébrés aquatiques\, avec vos enfants ! Bottes obligatoires pour une séance de patouille et d’observation d’étranges créatures. Vous allez être surpris ! \nTarif : Enfant accompagné 10 € – 1h30 – Jeune public – A partir de 4 ans\nInscriptions et renseignements auprès de Marine au 06 08 47 78 50 contact@entoureeparlanature.fr
URL:https://entoureeparlanature.fr/sortie/recherche-invertebres-zones-humides/
LOCATION:Petit Port\, 21 bd du petit port\, Nantes\, 44300\, France
ATTACH;FMTTYPE=image/png:https://entoureeparlanature.fr/wp-content/uploads/2024/02/peche-invertebres-aquatiques.png
ORGANIZER;CN="Entour%C3%A9e par la nature":MAILTO:contact@entoureeparlanature.fr
END:VEVENT
BEGIN:VEVENT
DTSTART;TZID=Europe/Helsinki:20240306T103000
DTEND;TZID=Europe/Helsinki:20240306T120000
DTSTAMP:20260421T163013
CREATED:20240219T215159Z
LAST-MODIFIED:20240219T215159Z
UID:1336-1709721000-1709726400@entoureeparlanature.fr
SUMMARY:Jouer dans la nature avec les 5 sens en éveil
DESCRIPTION:Des jeux seuls ou à plusieurs qui permettent de rencontrer la biodiversité du parc de la Gaudinière en sollicitant les 5 sens et d’explorer la créativité de vos enfants grâce aux éléments trouvés dans la nature. \nTarif : Enfant accompagné 10 € – 1h30 – Jeune public – A partir de 4 ans\nInscriptions et renseignements auprès de Marine au 06 08 47 78 50 contact@entoureeparlanature.fr
URL:https://entoureeparlanature.fr/sortie/sortie-nature-enfants-5-sens-parc-gaudiniere/
LOCATION:Parc de la Gaudinière\, 107 rue de la Parouillerie\, Orvault\, 44700\, France
ATTACH;FMTTYPE=image/jpeg:https://entoureeparlanature.fr/wp-content/uploads/2023/03/famille-balade-nature.jpg
ORGANIZER;CN="Entour%C3%A9e par la nature":MAILTO:contact@entoureeparlanature.fr
END:VEVENT
BEGIN:VEVENT
DTSTART;TZID=Europe/Helsinki:20240309T200000
DTEND;TZID=Europe/Helsinki:20240309T220000
DTSTAMP:20260421T163013
CREATED:20240219T220253Z
LAST-MODIFIED:20240221T174651Z
UID:1338-1710014400-1710021600@entoureeparlanature.fr
SUMMARY:Balade nature nocturne en forêt
DESCRIPTION:Une balade nocturne pour rencontrer la biodiversité nocturne. A l’heure du coucher\, on enfile ses chaussures\, on fixe sa lampe frontale et on se couvre bien pour cette déambulation nocturne. Que pouvons-nous bien rencontrer à cette période de l’année ?  \nTarif : Adulte 12 euros\, Enfant 8 euros – 2h – Grand public – A partir de 6 ans – distance de marche : 3 km –\nPrêt d’une paire de jumelles par participant \nInscriptions et renseignements auprès de Marine au 06 08 47 78 50 contact@entoureeparlanature.fr \nPlus de balades sur le site https ://entoureeparlanature.fr/sorties.
URL:https://entoureeparlanature.fr/sortie/balade-nature-nocturne-en-foret-3/
LOCATION:vertou\, Vertou\, 44120
ATTACH;FMTTYPE=image/jpeg:https://entoureeparlanature.fr/wp-content/uploads/2023/08/rando_nocturne_foret-e1691263516844.jpeg
ORGANIZER;CN="Entour%C3%A9e par la nature":MAILTO:contact@entoureeparlanature.fr
END:VEVENT
BEGIN:VEVENT
DTSTART;TZID=Europe/Helsinki:20240310T080000
DTEND;TZID=Europe/Helsinki:20240310T110000
DTSTAMP:20260421T163013
CREATED:20240219T221632Z
LAST-MODIFIED:20240221T174616Z
UID:1341-1710057600-1710068400@entoureeparlanature.fr
SUMMARY:Rando oiseaux au bord de l'Erdre
DESCRIPTION:Randonnée nature sur la bien connue boucle Pont de la Tortière-Pont de la Jonelière\, mais sans courir\, avec des jumelles et accompagné par une guide naturaliste. Vous connaissez par cœur ces bords de l’Erdre ? Et si vous changiez votre grille de lecture? \nTarif : Adulte 12 euros\, Enfant 8 euros – 3h15 – Grand public – A partir de 6 ans – distance de marche : 5 km – Boisson chaude\nPrêt d’une paire de jumelles par participant \nInscriptions et renseignements auprès de Marine au 06 08 47 78 50 contact@entoureeparlanature.fr \nPlus de balades sur le site https ://entoureeparlanature.fr/sorties.
URL:https://entoureeparlanature.fr/sortie/rando-oiseaux-au-bord-de-lerdre/
LOCATION:Pont de la Tortière\, 1 bd des professeurs Sourdille\, Nantes\, Nantes\, 44000
ATTACH;FMTTYPE=image/jpeg:https://entoureeparlanature.fr/wp-content/uploads/2023/05/20230324_093209-scaled-e1685032007735.jpg
ORGANIZER;CN="Entour%C3%A9e par la nature":MAILTO:contact@entoureeparlanature.fr
END:VEVENT
BEGIN:VEVENT
DTSTART;TZID=Europe/Helsinki:20240324T084500
DTEND;TZID=Europe/Helsinki:20240324T111500
DTSTAMP:20260421T163013
CREATED:20240212T094233Z
LAST-MODIFIED:20240221T162023Z
UID:1309-1711269900-1711278900@entoureeparlanature.fr
SUMMARY:Les oiseaux chanteurs du Jardin des plantes de Nantes
DESCRIPTION:Vous connaissez le Grimpereau des jardins\, la Sittelle torchepot\, le Pinson des arbres ou encore l’Accenteur mouchet ? Toutes ces oiseaux communs et pourtant peu connus vivent au Jardin des plantes de Nantes.  En explorant la mosaïque d’habitats du jardin\, équipés de jumelles\, vous observerez de nombreuses espèces d’oiseaux et apprendrez aussi à reconnaître leurs chants. Visitez autrement ce magnifique parc en compagnie d’une guide naturaliste. \nTarif : adulte 12 €\, enfant 8 € \nGrand public – enfants à partir de 6 ans \nAccessible aux personnes à mobilité réduite \nInscriptions et renseignements auprès de Marine au 06 08 47 78 50 contact@entoureeparlanature.fr \nPlus de balades sur le site https ://entoureeparlanature.fr/sorties.
URL:https://entoureeparlanature.fr/sortie/oiseaux-chanteurs-jardin-des-plantes-nantes/
LOCATION:Jardin des plantes\, rue Ecorchard\, Nantes\, 44000\, France
ATTACH;FMTTYPE=image/jpeg:https://entoureeparlanature.fr/wp-content/uploads/2023/03/sitelle-e1680019180514.jpg
ORGANIZER;CN="Entour%C3%A9e par la nature":MAILTO:contact@entoureeparlanature.fr
END:VEVENT
END:VCALENDAR