BEGIN:VCALENDAR
VERSION:2.0
PRODID:-//Entourée par la nature - ECPv6.15.20//NONSGML v1.0//EN
CALSCALE:GREGORIAN
METHOD:PUBLISH
X-ORIGINAL-URL:https://entoureeparlanature.fr
X-WR-CALDESC:Évènements pour Entourée par la nature
REFRESH-INTERVAL;VALUE=DURATION:PT1H
X-Robots-Tag:noindex
X-PUBLISHED-TTL:PT1H
BEGIN:VTIMEZONE
TZID:Europe/Helsinki
BEGIN:DAYLIGHT
TZOFFSETFROM:+0200
TZOFFSETTO:+0300
TZNAME:EEST
DTSTART:20230326T010000
END:DAYLIGHT
BEGIN:STANDARD
TZOFFSETFROM:+0300
TZOFFSETTO:+0200
TZNAME:EET
DTSTART:20231029T010000
END:STANDARD
BEGIN:DAYLIGHT
TZOFFSETFROM:+0200
TZOFFSETTO:+0300
TZNAME:EEST
DTSTART:20240331T010000
END:DAYLIGHT
BEGIN:STANDARD
TZOFFSETFROM:+0300
TZOFFSETTO:+0200
TZNAME:EET
DTSTART:20241027T010000
END:STANDARD
BEGIN:DAYLIGHT
TZOFFSETFROM:+0200
TZOFFSETTO:+0300
TZNAME:EEST
DTSTART:20250330T010000
END:DAYLIGHT
BEGIN:STANDARD
TZOFFSETFROM:+0300
TZOFFSETTO:+0200
TZNAME:EET
DTSTART:20251026T010000
END:STANDARD
END:VTIMEZONE
BEGIN:VEVENT
DTSTART;TZID=Europe/Helsinki:20240717T140000
DTEND;TZID=Europe/Helsinki:20240717T163000
DTSTAMP:20260421T110445
CREATED:20240706T135047Z
LAST-MODIFIED:20240708T071231Z
UID:1595-1721224800-1721233800@entoureeparlanature.fr
SUMMARY:Sortie végétale et créative : initiation au Cyanotype
DESCRIPTION:Au cours d’une balade\, prenez le temps d’observer dans les moindres détails les plantes communes et utilisez-les pour réaliser de très belles impressions bleues grâce à la méthode du Cyanotype en compagnie d’une animatrice nature. Un moment de créativité et de convivialité. \nPublic : adultes ou enfants accompagnés \nTarif : 15 € par adulte\, 12€ par enfant \nInscriptions nécessaires –> Lien pour s’inscrire \nPour tout renseignement\, contacter Marine\, l’animatrice nature au 06 08 47 78 50 ou par mail à contact@entoureeparlanature.fr \nArt science et botanique avec un soupçon de soleil\, voila le cyanotype\n( Autres sessions dans d’autres lieux : Samedi 27 juillet – Mercredi 7 août – Samedi 17 août – Mercredi 22 août )
URL:https://entoureeparlanature.fr/sortie/sortie-vegetale-creative-initiation-cyanotype-petit-port/
LOCATION:Petit Port\, 21 bd du petit port\, Nantes\, 44300\, France
ATTACH;FMTTYPE=image/jpeg:https://entoureeparlanature.fr/wp-content/uploads/2024/05/cyanotype-sortie-nature-plein-air-e1716214145902.jpg
ORGANIZER;CN="Entour%C3%A9e par la nature":MAILTO:contact@entoureeparlanature.fr
END:VEVENT
BEGIN:VEVENT
DTSTART;TZID=Europe/Helsinki:20240724T150000
DTEND;TZID=Europe/Helsinki:20240724T163000
DTSTAMP:20260421T110445
CREATED:20240707T110221Z
LAST-MODIFIED:20240707T110221Z
UID:1640-1721833200-1721838600@entoureeparlanature.fr
SUMMARY:Drôles de plantes - les explosives\, les odorantes\, les piquantes
DESCRIPTION:Portez un nouveau regard sur les plantes et les mauvaises herbes qui n’ont pas fini de vous étonner. Leur texture\, odeur\, apparence\, ou tout simplement leurs capacités spéciales pourraient vous étonner. Nous explorerons le joli Val de la Chézine au départ du Pont Jules César. \nPublic : adultes ou enfants accompagnés à partir de 6 ans. \nTarif : 12€ par enfant accompagné d’un parent \nInscriptions nécessaires –> Lien pour s’inscrire \nPour tout renseignement\, contacter Marine\, l’animatrice nature au 06 08 47 78 50 ou par mail à contact@entoureeparlanature.fr \nAutre date :  13 août
URL:https://entoureeparlanature.fr/sortie/droles-de-plantes-les-explosives-les-odorantes-les-piquantes/
LOCATION:Pont Jules César\, Pont Jules César\, Nantes\, 44100\, France
ATTACH;FMTTYPE=image/png:https://entoureeparlanature.fr/wp-content/uploads/2024/07/plantes-sortie-enfants-nantes.png
ORGANIZER;CN="Entour%C3%A9e par la nature":MAILTO:contact@entoureeparlanature.fr
END:VEVENT
BEGIN:VEVENT
DTSTART;TZID=Europe/Helsinki:20240725T150000
DTEND;TZID=Europe/Helsinki:20240725T163000
DTSTAMP:20260421T110445
CREATED:20240707T111805Z
LAST-MODIFIED:20240707T113113Z
UID:1648-1721919600-1721925000@entoureeparlanature.fr
SUMMARY:A la recherche des petites-bêtes du Petit Port
DESCRIPTION:Les petites-bêtes\, un centre d’intérêt universel des jeunes enfants. Et si nous apprenions à les observer sans leur faire de mal\, et à ne pas en avoir peur ? Une sortie nature adaptée aux plus jeunes\, qui combine conte\, créativité et naturalisme. \nPublic : adultes ou enfants accompagnés à partir de 4 ans. \nTarif : 12€ par enfant accompagné d’un parent \nInscriptions nécessaires –> Lien pour s’inscrire \nPour tout renseignement\, contacter Marine\, l’animatrice nature au 06 08 47 78 50 ou par mail à contact@entoureeparlanature.fr \nAutre date :  14 août
URL:https://entoureeparlanature.fr/sortie/petites-betes-hippodrome/
LOCATION:Petit Port\, 21 bd du petit port\, Nantes\, 44300\, France
ATTACH;FMTTYPE=image/png:https://entoureeparlanature.fr/wp-content/uploads/2024/07/Capture-decran-2024-07-07-131422.png
ORGANIZER;CN="Entour%C3%A9e par la nature":MAILTO:contact@entoureeparlanature.fr
END:VEVENT
BEGIN:VEVENT
DTSTART;TZID=Europe/Helsinki:20240725T201500
DTEND;TZID=Europe/Helsinki:20240725T221500
DTSTAMP:20260421T110445
CREATED:20240706T163440Z
LAST-MODIFIED:20240706T163529Z
UID:1613-1721938500-1721945700@entoureeparlanature.fr
SUMMARY:Sortie oiseaux au crépuscule au Lac de Beaulieu
DESCRIPTION:A Couëron\, on peut observer un étrange ballet aérien au coucher du soleil… Accompagnés d’une guide naturaliste\, venez découvrir le Lac de Beaulieu et ses nombreux habitants ailés.\nTarif : Adulte 12 euros\, Enfant 8 euros – 2h – Adultes – enfants à partir de 8 ans\nPrêt d’une paire de jumelles par participant\nInscriptions et renseignements auprès de Marine au 06 08 47 78 50 contact@entoureeparlanature.fr
URL:https://entoureeparlanature.fr/sortie/crepusculaire-lac-beaulieu-coueron/
LOCATION:Lac de Beaulieu\, Lac de Beaulieu\, Couëron\, 44220\, France
ATTACH;FMTTYPE=image/jpeg:https://entoureeparlanature.fr/wp-content/uploads/2023/10/grande_aigrette-1-e1761467795521.jpg
ORGANIZER;CN="Entour%C3%A9e par la nature":MAILTO:contact@entoureeparlanature.fr
END:VEVENT
BEGIN:VEVENT
DTSTART;TZID=Europe/Helsinki:20240727T140000
DTEND;TZID=Europe/Helsinki:20240727T163000
DTSTAMP:20260421T110445
CREATED:20240706T135325Z
LAST-MODIFIED:20240707T141926Z
UID:1597-1722088800-1722097800@entoureeparlanature.fr
SUMMARY:Sortie végétale et créative : initiation au Cyanotype
DESCRIPTION:Au cours d’une balade\, prenez le temps d’observer dans les moindres détails les plantes communes et utilisez-les pour réaliser de très belles impressions bleues grâce à la méthode du Cyanotype en compagnie d’une animatrice nature. Un moment de créativité et de convivialité. \nPublic : adultes ou enfants accompagnés \nTarif : 15 € par adulte\, 12€ par enfant \nInscriptions nécessaires –> Lien pour s’inscrire \nPour tout renseignement\, contacter Marine\, l’animatrice nature au 06 08 47 78 50 ou par mail à contact@entoureeparlanature.fr \nArt science et botanique avec un soupçon de soleil\, voila le cyanotype\n( Autres sessions dans d’autres lieux : Mercredi 7 août – Samedi 17 août – Mercredi 22 août )
URL:https://entoureeparlanature.fr/sortie/sortie-vegetale-creative-initiation-cyanotype-pont-saint-martin/
LOCATION:Parc de la Gaudinière\, 107 rue de la Parouillerie\, Orvault\, 44700\, France
ATTACH;FMTTYPE=image/jpeg:https://entoureeparlanature.fr/wp-content/uploads/2024/05/cyanotype-sortie-nature-plein-air-e1716214145902.jpg
ORGANIZER;CN="Entour%C3%A9e par la nature":MAILTO:contact@entoureeparlanature.fr
END:VEVENT
END:VCALENDAR